BEGIN:VCALENDAR
VERSION:2.0
PRODID:-//Busan Foreign School - ECPv6.15.20//NONSGML v1.0//EN
CALSCALE:GREGORIAN
METHOD:PUBLISH
X-WR-CALNAME:Busan Foreign School
X-ORIGINAL-URL:https://busanforeignschool.org
X-WR-CALDESC:Events for Busan Foreign School
REFRESH-INTERVAL;VALUE=DURATION:PT1H
X-Robots-Tag:noindex
X-PUBLISHED-TTL:PT1H
BEGIN:VTIMEZONE
TZID:Asia/Seoul
BEGIN:STANDARD
TZOFFSETFROM:+0900
TZOFFSETTO:+0900
TZNAME:KST
DTSTART:20240101T000000
END:STANDARD
END:VTIMEZONE
BEGIN:VEVENT
DTSTART;TZID=Asia/Seoul:20250801T082000
DTEND;TZID=Asia/Seoul:20250801T083500
DTSTAMP:20260425T123113
CREATED:20241004T070449Z
LAST-MODIFIED:20241112T093447Z
UID:7311-1754036400-1754037300@busanforeignschool.org
SUMMARY:Friday Foyer!
DESCRIPTION:
URL:https://busanforeignschool.org/event/friday-foyer-10/
CATEGORIES:BFS Academic
END:VEVENT
BEGIN:VEVENT
DTSTART;TZID=Asia/Seoul:20250808T113000
DTEND;TZID=Asia/Seoul:20250808T123000
DTSTAMP:20260425T123113
CREATED:20240228T160008Z
LAST-MODIFIED:20240416T232948Z
UID:5347-1754652600-1754656200@busanforeignschool.org
SUMMARY:PTSO Meeting
DESCRIPTION:
URL:https://busanforeignschool.org/event/ptso-meeting-18/
CATEGORIES:BFS Academic
ATTACH;FMTTYPE=image/jpeg:https://busanforeignschool.org/wp-content/uploads/2024/02/BFS-Academic.jpg
END:VEVENT
BEGIN:VEVENT
DTSTART;VALUE=DATE:20250809
DTEND;VALUE=DATE:20250810
DTSTAMP:20260425T123113
CREATED:20250214T132353Z
LAST-MODIFIED:20250809T052756Z
UID:8017-1754697600-1754783999@busanforeignschool.org
SUMMARY:Family Orientation Day
DESCRIPTION:
URL:https://busanforeignschool.org/event/family-orientation-day/
CATEGORIES:BFS Academic
END:VEVENT
BEGIN:VEVENT
DTSTART;VALUE=DATE:20250811
DTEND;VALUE=DATE:20250812
DTSTAMP:20260425T123113
CREATED:20250214T132353Z
LAST-MODIFIED:20250811T054258Z
UID:8018-1754870400-1754956799@busanforeignschool.org
SUMMARY:First day of school
DESCRIPTION:
URL:https://busanforeignschool.org/event/first-day-of-school-2/
CATEGORIES:BFS Academic
END:VEVENT
BEGIN:VEVENT
DTSTART;VALUE=DATE:20250815
DTEND;VALUE=DATE:20250816
DTSTAMP:20260425T123113
CREATED:20250214T132353Z
LAST-MODIFIED:20250815T055756Z
UID:8019-1755216000-1755302399@busanforeignschool.org
SUMMARY:Liberation Day (No School)
DESCRIPTION:
URL:https://busanforeignschool.org/event/liberation-day-no-school/
CATEGORIES:BFS Academic
END:VEVENT
BEGIN:VEVENT
DTSTART;VALUE=DATE:20250823
DTEND;VALUE=DATE:20250824
DTSTAMP:20260425T123113
CREATED:20250822T055753Z
LAST-MODIFIED:20250823T055757Z
UID:8683-1755907200-1755993599@busanforeignschool.org
SUMMARY:SAT
DESCRIPTION:
URL:https://busanforeignschool.org/event/sat-11/
CATEGORIES:BFS Academic
END:VEVENT
END:VCALENDAR