BEGIN:VCALENDAR
VERSION:2.0
PRODID:-//Busan Foreign School - ECPv6.15.20//NONSGML v1.0//EN
CALSCALE:GREGORIAN
METHOD:PUBLISH
X-ORIGINAL-URL:https://busanforeignschool.org
X-WR-CALDESC:Events for Busan Foreign School
REFRESH-INTERVAL;VALUE=DURATION:PT1H
X-Robots-Tag:noindex
X-PUBLISHED-TTL:PT1H
BEGIN:VTIMEZONE
TZID:Asia/Seoul
BEGIN:STANDARD
TZOFFSETFROM:+0900
TZOFFSETTO:+0900
TZNAME:KST
DTSTART:20240101T000000
END:STANDARD
END:VTIMEZONE
BEGIN:VEVENT
DTSTART;TZID=Asia/Seoul:20250421T084500
DTEND;TZID=Asia/Seoul:20250421T094500
DTSTAMP:20260421T054913
CREATED:20250203T130848Z
LAST-MODIFIED:20250228T143848Z
UID:7974-1745225100-1745228700@busanforeignschool.org
SUMMARY:AEO Tour! 🎓College Fair in the Gym
DESCRIPTION:USA University Group Visit BFS! \n\n\n\n1\nCalifornia Baptist University\n\n\n2\nCalifornia State University\, Sacramento\n\n\n3\nEdmonds College\n\n\n4\nIndiana University Indianapolis\n\n\n5\nKansas State University\n\n\n6\nMarymount Manhattan College\n\n\n7\nMercy University\n\n\n8\nPurdue University\n\n\n9\nThe University of Arizona\n\n\n10\nUniversity at Buffalo\, The State University of New York\n\n\n11\nWichita State University
URL:https://busanforeignschool.org/event/aeo-tour-%f0%9f%8e%93/
CATEGORIES:BFS Academic
END:VEVENT
BEGIN:VEVENT
DTSTART;VALUE=DATE:20250422
DTEND;VALUE=DATE:20250423
DTSTAMP:20260421T054913
CREATED:20241113T094950Z
LAST-MODIFIED:20250228T143848Z
UID:7553-1745280000-1745366399@busanforeignschool.org
SUMMARY:Earth Day
DESCRIPTION:
URL:https://busanforeignschool.org/event/earth-day/
CATEGORIES:BFS Academic
END:VEVENT
BEGIN:VEVENT
DTSTART;TZID=Asia/Seoul:20250426T090000
DTEND;TZID=Asia/Seoul:20250426T170000
DTSTAMP:20260421T054913
CREATED:20240812T192949Z
LAST-MODIFIED:20250301T102350Z
UID:6815-1745658000-1745686800@busanforeignschool.org
SUMMARY:SKAIS ES Basketball @ DIS
DESCRIPTION:
URL:https://busanforeignschool.org/event/skais-es-basketball-dis/
CATEGORIES:BFS Athletics
END:VEVENT
BEGIN:VEVENT
DTSTART;VALUE=DATE:20250428
DTEND;VALUE=DATE:20250503
DTSTAMP:20260421T054913
CREATED:20241210T110851Z
LAST-MODIFIED:20250228T143848Z
UID:7764-1745798400-1746230399@busanforeignschool.org
SUMMARY:Faculty Appreciation Week
DESCRIPTION:
URL:https://busanforeignschool.org/event/faculty-appreciation-week-2/
CATEGORIES:BFS Academic
END:VEVENT
BEGIN:VEVENT
DTSTART;TZID=Asia/Seoul:20250502T082000
DTEND;TZID=Asia/Seoul:20250502T083500
DTSTAMP:20260421T054913
CREATED:20241004T070449Z
LAST-MODIFIED:20241209T110853Z
UID:7308-1746174000-1746174900@busanforeignschool.org
SUMMARY:Friday Foyer!
DESCRIPTION:
URL:https://busanforeignschool.org/event/friday-foyer-7/
CATEGORIES:BFS Academic
END:VEVENT
BEGIN:VEVENT
DTSTART;VALUE=DATE:20250503
DTEND;VALUE=DATE:20250504
DTSTAMP:20260421T054913
CREATED:20241113T094950Z
LAST-MODIFIED:20250228T143848Z
UID:7554-1746230400-1746316799@busanforeignschool.org
SUMMARY:SAT
DESCRIPTION:
URL:https://busanforeignschool.org/event/sat-9/
CATEGORIES:BFS Academic
END:VEVENT
BEGIN:VEVENT
DTSTART;VALUE=DATE:20250505
DTEND;VALUE=DATE:20250506
DTSTAMP:20260421T054913
CREATED:20240228T160008Z
LAST-MODIFIED:20250228T143848Z
UID:5340-1746403200-1746489599@busanforeignschool.org
SUMMARY:Children's Day (No School)
DESCRIPTION:
URL:https://busanforeignschool.org/event/childrens-day-no-school-2/
CATEGORIES:BFS Academic
ATTACH;FMTTYPE=image/jpeg:https://busanforeignschool.org/wp-content/uploads/2024/02/BFS-Academic.jpg
END:VEVENT
BEGIN:VEVENT
DTSTART;VALUE=DATE:20250505
DTEND;VALUE=DATE:20250517
DTSTAMP:20260421T054913
CREATED:20241113T094950Z
LAST-MODIFIED:20250228T143849Z
UID:7557-1746403200-1747439999@busanforeignschool.org
SUMMARY:Advanced Placement (AP) Exams
DESCRIPTION:
URL:https://busanforeignschool.org/event/advanced-placement-ap-exams-2/
CATEGORIES:BFS Academic
END:VEVENT
BEGIN:VEVENT
DTSTART;TZID=Asia/Seoul:20250506T161500
DTEND;TZID=Asia/Seoul:20250506T174500
DTSTAMP:20260421T054913
CREATED:20240812T192949Z
LAST-MODIFIED:20250301T102350Z
UID:6816-1746548100-1746553500@busanforeignschool.org
SUMMARY:MS Basketball @ BFS/ISB
DESCRIPTION:
URL:https://busanforeignschool.org/event/ms-basketball-bfs-isb-2/
CATEGORIES:BFS Athletics
END:VEVENT
BEGIN:VEVENT
DTSTART;VALUE=DATE:20250508
DTEND;VALUE=DATE:20250509
DTSTAMP:20260421T054913
CREATED:20240228T160008Z
LAST-MODIFIED:20250228T143848Z
UID:5341-1746662400-1746748799@busanforeignschool.org
SUMMARY:Buddha's Birthday (School Day)
DESCRIPTION:
URL:https://busanforeignschool.org/event/buddhas-birthday-school-day-2/
CATEGORIES:BFS Academic
ATTACH;FMTTYPE=image/jpeg:https://busanforeignschool.org/wp-content/uploads/2024/02/BFS-Academic.jpg
END:VEVENT
BEGIN:VEVENT
DTSTART;TZID=Asia/Seoul:20250509T113000
DTEND;TZID=Asia/Seoul:20250509T123000
DTSTAMP:20260421T054913
CREATED:20240228T160008Z
LAST-MODIFIED:20240416T232947Z
UID:5342-1746790200-1746793800@busanforeignschool.org
SUMMARY:PTSO Meeting
DESCRIPTION:
URL:https://busanforeignschool.org/event/ptso-meeting-15/
CATEGORIES:BFS Academic
ATTACH;FMTTYPE=image/jpeg:https://busanforeignschool.org/wp-content/uploads/2024/02/BFS-Academic.jpg
END:VEVENT
BEGIN:VEVENT
DTSTART;TZID=Asia/Seoul:20250509T170000
DTEND;TZID=Asia/Seoul:20250509T180000
DTSTAMP:20260421T054913
CREATED:20241211T110850Z
LAST-MODIFIED:20250509T040322Z
UID:7794-1746810000-1746813600@busanforeignschool.org
SUMMARY:ES Spring Music Concert & Art Showcase
DESCRIPTION:
URL:https://busanforeignschool.org/event/es-spring-concert-tentative/
CATEGORIES:BFS Academic
END:VEVENT
BEGIN:VEVENT
DTSTART;VALUE=DATE:20250512
DTEND;VALUE=DATE:20250513
DTSTAMP:20260421T054913
CREATED:20250509T040322Z
LAST-MODIFIED:20250512T191042Z
UID:8290-1747008000-1747094399@busanforeignschool.org
SUMMARY:WIDA ELL Testing begins until 23rd
DESCRIPTION:
URL:https://busanforeignschool.org/event/wida-ell-testing-begins-until-23rd/
CATEGORIES:BFS Academic
END:VEVENT
BEGIN:VEVENT
DTSTART;VALUE=DATE:20250515
DTEND;VALUE=DATE:20250518
DTSTAMP:20260421T054913
CREATED:20240812T192949Z
LAST-MODIFIED:20250517T212448Z
UID:6818-1747267200-1747526399@busanforeignschool.org
SUMMARY:KISAC MS Girls A-Team Basketball @ FPS
DESCRIPTION:
URL:https://busanforeignschool.org/event/ms-girls-basketball-fps/
CATEGORIES:BFS Athletics
END:VEVENT
BEGIN:VEVENT
DTSTART;VALUE=DATE:20250516
DTEND;VALUE=DATE:20250517
DTSTAMP:20260421T054913
CREATED:20250509T040322Z
LAST-MODIFIED:20250516T190950Z
UID:8291-1747353600-1747439999@busanforeignschool.org
SUMMARY:AP Exams End
DESCRIPTION:
URL:https://busanforeignschool.org/event/ap-exams-end/
CATEGORIES:BFS Academic
END:VEVENT
BEGIN:VEVENT
DTSTART;VALUE=DATE:20250516
DTEND;VALUE=DATE:20250518
DTSTAMP:20260421T054913
CREATED:20240812T192949Z
LAST-MODIFIED:20250517T212448Z
UID:6819-1747353600-1747526399@busanforeignschool.org
SUMMARY:KISAC MS Boys Basketball / B-teams @ BFS / A-teams @ DIS
DESCRIPTION:
URL:https://busanforeignschool.org/event/kisac-ms-boys-basketball-bfs-dis/
CATEGORIES:BFS Athletics
END:VEVENT
BEGIN:VEVENT
DTSTART;TZID=Asia/Seoul:20250516T093000
DTEND;TZID=Asia/Seoul:20250516T103000
DTSTAMP:20260421T054913
CREATED:20241113T094950Z
LAST-MODIFIED:20250515T190948Z
UID:7555-1747387800-1747391400@busanforeignschool.org
SUMMARY:PTSO Meeting
DESCRIPTION:
URL:https://busanforeignschool.org/event/ptso-meeting-31/
CATEGORIES:BFS Academic
END:VEVENT
BEGIN:VEVENT
DTSTART;TZID=Asia/Seoul:20250520T090000
DTEND;TZID=Asia/Seoul:20250520T160000
DTSTAMP:20260421T054913
CREATED:20240812T192950Z
LAST-MODIFIED:20250519T212452Z
UID:6821-1747731600-1747756800@busanforeignschool.org
SUMMARY:SKAIS ES Basketball Finals @ DIS
DESCRIPTION:
URL:https://busanforeignschool.org/event/skais-es-basketball-finals-dis/
CATEGORIES:BFS Athletics
END:VEVENT
BEGIN:VEVENT
DTSTART;TZID=Asia/Seoul:20250520T130000
DTEND;TZID=Asia/Seoul:20250520T140000
DTSTAMP:20260421T054913
CREATED:20250519T192451Z
LAST-MODIFIED:20250519T192453Z
UID:8350-1747746000-1747749600@busanforeignschool.org
SUMMARY:Sofa call
DESCRIPTION:
URL:https://busanforeignschool.org/event/sofa-call/
CATEGORIES:BFS Academic
END:VEVENT
BEGIN:VEVENT
DTSTART;TZID=Asia/Seoul:20250521T150000
DTEND;TZID=Asia/Seoul:20250521T183000
DTSTAMP:20260421T054913
CREATED:20250509T040323Z
LAST-MODIFIED:20250520T192452Z
UID:8296-1747839600-1747852200@busanforeignschool.org
SUMMARY:BFS Garage Sale! (Cafeteria)
DESCRIPTION:
URL:https://busanforeignschool.org/event/bfs-garage-sale-cafeteria/
CATEGORIES:BFS Academic
END:VEVENT
BEGIN:VEVENT
DTSTART;TZID=Asia/Seoul:20250522T090000
DTEND;TZID=Asia/Seoul:20250522T180000
DTSTAMP:20260421T054913
CREATED:20240812T192950Z
LAST-MODIFIED:20250521T212449Z
UID:6822-1747904400-1747936800@busanforeignschool.org
SUMMARY:SKAIS MS Basketball Finals / Girls @ BFS / Boys @ DIS
DESCRIPTION:
URL:https://busanforeignschool.org/event/skais-ms-basketball-finals-bfs-dis/
CATEGORIES:BFS Athletics
END:VEVENT
BEGIN:VEVENT
DTSTART;TZID=Asia/Seoul:20250522T121500
DTEND;TZID=Asia/Seoul:20250522T134500
DTSTAMP:20260421T054913
CREATED:20241210T110850Z
LAST-MODIFIED:20250521T193952Z
UID:7755-1747916100-1747921500@busanforeignschool.org
SUMMARY:📸 Senior Off-Campus Photos
DESCRIPTION:Photoshoot during lunch and Period 5\, Senior English Class (12:10-1:41 pm) \nThese photos will be for alumni use (social media and the website) plus we will share the digital photos with you after (it’s always nice to have a professional photo of yourself in adult life).  \nI took a poll during class right now and they decided on 해운대블루라인파크 미포정거장 (Haeundae Mipo Blueline Park) 11 minutes away.
URL:https://busanforeignschool.org/event/senior-off-campus-photos-tentative/
LOCATION:Mipo Blueline Square\, 948-2 Jung-dong\, Haeundae\, Busan\, South Korea
CATEGORIES:BFS Academic
END:VEVENT
BEGIN:VEVENT
DTSTART;TZID=Asia/Seoul:20250523T144500
DTEND;TZID=Asia/Seoul:20250523T151500
DTSTAMP:20260421T054913
CREATED:20250509T040323Z
LAST-MODIFIED:20250522T193951Z
UID:8298-1748011500-1748013300@busanforeignschool.org
SUMMARY:EC & Lower ES Science Learning Fair (Auditorium & Classrooms)
DESCRIPTION:
URL:https://busanforeignschool.org/event/ec-lower-es-science-learning-fair/
CATEGORIES:BFS Academic
END:VEVENT
BEGIN:VEVENT
DTSTART;TZID=Asia/Seoul:20250523T180000
DTEND;TZID=Asia/Seoul:20250523T194500
DTSTAMP:20260421T054913
CREATED:20241210T110850Z
LAST-MODIFIED:20250522T193951Z
UID:7756-1748023200-1748029500@busanforeignschool.org
SUMMARY:MSHS Band and Choir Concert
DESCRIPTION:
URL:https://busanforeignschool.org/event/mshs-spring-concert-tentative/
CATEGORIES:BFS Academic
END:VEVENT
BEGIN:VEVENT
DTSTART;VALUE=DATE:20250524
DTEND;VALUE=DATE:20250525
DTSTAMP:20260421T054913
CREATED:20241210T110852Z
LAST-MODIFIED:20250524T194301Z
UID:7767-1748044800-1748131199@busanforeignschool.org
SUMMARY:Global Gathering
DESCRIPTION:
URL:https://busanforeignschool.org/event/global-gathering-tentative/
LOCATION:Busan Cinema Center\, 120 Suyeonggangbyeon-daero\, Haeundae\, Busan\, South Korea
CATEGORIES:BFS Academic
END:VEVENT
BEGIN:VEVENT
DTSTART;VALUE=DATE:20250528
DTEND;VALUE=DATE:20250529
DTSTAMP:20260421T054913
CREATED:20250509T040323Z
LAST-MODIFIED:20250525T194300Z
UID:8302-1748390400-1748476799@busanforeignschool.org
SUMMARY:ES Badminton at AIS
DESCRIPTION:
URL:https://busanforeignschool.org/event/es-badminton-at-ais/
CATEGORIES:BFS Academic
END:VEVENT
BEGIN:VEVENT
DTSTART;TZID=Asia/Seoul:20250528T135000
DTEND;TZID=Asia/Seoul:20250528T143000
DTSTAMP:20260421T054913
CREATED:20250509T040323Z
LAST-MODIFIED:20250527T194255Z
UID:8301-1748440200-1748442600@busanforeignschool.org
SUMMARY:K5-G2 Splash Day!
DESCRIPTION:
URL:https://busanforeignschool.org/event/k5-g2-splash-day-3/
CATEGORIES:BFS Academic
END:VEVENT
BEGIN:VEVENT
DTSTART;TZID=Asia/Seoul:20250529T083000
DTEND;TZID=Asia/Seoul:20250529T120000
DTSTAMP:20260421T054913
CREATED:20250509T040323Z
LAST-MODIFIED:20250528T194256Z
UID:8300-1748507400-1748520000@busanforeignschool.org
SUMMARY:MS Fun Day!
DESCRIPTION:
URL:https://busanforeignschool.org/event/ms-fun-day-2/
CATEGORIES:BFS Academic
END:VEVENT
BEGIN:VEVENT
DTSTART;TZID=Asia/Seoul:20250530T084000
DTEND;TZID=Asia/Seoul:20250530T091000
DTSTAMP:20260421T054913
CREATED:20241113T094950Z
LAST-MODIFIED:20250529T194256Z
UID:7556-1748594400-1748596200@busanforeignschool.org
SUMMARY:ES SLO Assembly (Keep Learning)
DESCRIPTION:
URL:https://busanforeignschool.org/event/es-slo-assembly-keep-learning-2/
CATEGORIES:BFS Academic
END:VEVENT
BEGIN:VEVENT
DTSTART;TZID=Asia/Seoul:20250530T170000
DTEND;TZID=Asia/Seoul:20250530T190000
DTSTAMP:20260421T054913
CREATED:20240812T192950Z
LAST-MODIFIED:20250529T215754Z
UID:6823-1748624400-1748631600@busanforeignschool.org
SUMMARY:HS Sports End of Year Banquet
DESCRIPTION:
URL:https://busanforeignschool.org/event/hs-sports-end-of-year-banquet/
CATEGORIES:BFS Athletics
END:VEVENT
END:VCALENDAR