BEGIN:VCALENDAR
VERSION:2.0
PRODID:-//Busan Foreign School - ECPv6.15.20//NONSGML v1.0//EN
CALSCALE:GREGORIAN
METHOD:PUBLISH
X-WR-CALNAME:Busan Foreign School
X-ORIGINAL-URL:https://busanforeignschool.org
X-WR-CALDESC:Events for Busan Foreign School
REFRESH-INTERVAL;VALUE=DURATION:PT1H
X-Robots-Tag:noindex
X-PUBLISHED-TTL:PT1H
BEGIN:VTIMEZONE
TZID:Asia/Seoul
BEGIN:STANDARD
TZOFFSETFROM:+0900
TZOFFSETTO:+0900
TZNAME:KST
DTSTART:20250101T000000
END:STANDARD
END:VTIMEZONE
BEGIN:VEVENT
DTSTART;VALUE=DATE:20260224
DTEND;VALUE=DATE:20260225
DTSTAMP:20260421T200041
CREATED:20251211T123006Z
LAST-MODIFIED:20260224T220003Z
UID:9409-1771891200-1771977599@busanforeignschool.org
SUMMARY:HS BBall SKAIS Finals (Boys @ BFS\, Girls @ ISB)
DESCRIPTION:
URL:https://busanforeignschool.org/event/hs-bball-skais-finals/
CATEGORIES:BFS Academic
END:VEVENT
BEGIN:VEVENT
DTSTART;VALUE=DATE:20260226
DTEND;VALUE=DATE:20260301
DTSTAMP:20260421T200041
CREATED:20251211T123006Z
LAST-MODIFIED:20260228T220005Z
UID:9410-1772064000-1772323199@busanforeignschool.org
SUMMARY:MS KISAC Volleyball
DESCRIPTION:
URL:https://busanforeignschool.org/event/ms-kisac-volleyball/
CATEGORIES:BFS Academic
END:VEVENT
BEGIN:VEVENT
DTSTART;VALUE=DATE:20260302
DTEND;VALUE=DATE:20260303
DTSTAMP:20260421T200041
CREATED:20250214T132354Z
LAST-MODIFIED:20260302T220003Z
UID:8031-1772409600-1772495999@busanforeignschool.org
SUMMARY:Samil Day Observed (School Day)
DESCRIPTION:
URL:https://busanforeignschool.org/event/samil-day-school-day-2/
CATEGORIES:BFS Academic
END:VEVENT
BEGIN:VEVENT
DTSTART;VALUE=DATE:20260302
DTEND;VALUE=DATE:20260303
DTSTAMP:20260421T200041
CREATED:20260217T214503Z
LAST-MODIFIED:20260302T220003Z
UID:9811-1772409600-1772495999@busanforeignschool.org
SUMMARY:PTC Schedules Available
DESCRIPTION:
URL:https://busanforeignschool.org/event/ptc-schedules-available/
CATEGORIES:BFS Academic
END:VEVENT
BEGIN:VEVENT
DTSTART;VALUE=DATE:20260306
DTEND;VALUE=DATE:20260307
DTSTAMP:20260421T200041
CREATED:20250930T082958Z
LAST-MODIFIED:20260306T220006Z
UID:8926-1772755200-1772841599@busanforeignschool.org
SUMMARY:ISF/BFS Concert
DESCRIPTION:
URL:https://busanforeignschool.org/event/isf-bfs-concert/
CATEGORIES:BFS Academic
END:VEVENT
BEGIN:VEVENT
DTSTART;VALUE=DATE:20260306
DTEND;VALUE=DATE:20260308
DTSTAMP:20260421T200041
CREATED:20260123T204508Z
LAST-MODIFIED:20260307T220018Z
UID:9661-1772755200-1772927999@busanforeignschool.org
SUMMARY:GEC-MUN
DESCRIPTION:
URL:https://busanforeignschool.org/event/gec-mun/
CATEGORIES:BFS Academic
END:VEVENT
BEGIN:VEVENT
DTSTART;TZID=Asia/Seoul:20260306T082000
DTEND;TZID=Asia/Seoul:20260306T083500
DTSTAMP:20260421T200041
CREATED:20241004T070450Z
LAST-MODIFIED:20241112T093448Z
UID:7318-1772785200-1772786100@busanforeignschool.org
SUMMARY:Friday Foyer!
DESCRIPTION:
URL:https://busanforeignschool.org/event/friday-foyer-17/
CATEGORIES:BFS Academic
END:VEVENT
BEGIN:VEVENT
DTSTART;TZID=Asia/Seoul:20260306T110000
DTEND;TZID=Asia/Seoul:20260306T120000
DTSTAMP:20260421T200041
CREATED:20260123T204508Z
LAST-MODIFIED:20260305T220002Z
UID:9662-1772794800-1772798400@busanforeignschool.org
SUMMARY:PTSO Meeting
DESCRIPTION:
URL:https://busanforeignschool.org/event/ptso-meeting-36/
CATEGORIES:BFS Academic
END:VEVENT
BEGIN:VEVENT
DTSTART;VALUE=DATE:20260311
DTEND;VALUE=DATE:20260312
DTSTAMP:20260421T200041
CREATED:20251211T123006Z
LAST-MODIFIED:20260311T221505Z
UID:9411-1773187200-1773273599@busanforeignschool.org
SUMMARY:MS Assembly - G7 leading
DESCRIPTION:
URL:https://busanforeignschool.org/event/ms-assembly-g7-leading/
CATEGORIES:BFS Academic
END:VEVENT
BEGIN:VEVENT
DTSTART;TZID=Asia/Seoul:20260311T120000
DTEND;TZID=Asia/Seoul:20260311T130000
DTSTAMP:20260421T200041
CREATED:20260211T213005Z
LAST-MODIFIED:20260310T221506Z
UID:9788-1773230400-1773234000@busanforeignschool.org
SUMMARY:Pi Day event- MS/HS
DESCRIPTION:
URL:https://busanforeignschool.org/event/pi-day-event-ms-hs/
CATEGORIES:BFS Academic
END:VEVENT
BEGIN:VEVENT
DTSTART;TZID=Asia/Seoul:20260311T190000
DTEND;TZID=Asia/Seoul:20260311T200000
DTSTAMP:20260421T200041
CREATED:20260217T214503Z
LAST-MODIFIED:20260310T221505Z
UID:9812-1773255600-1773259200@busanforeignschool.org
SUMMARY:PTC Schedules Close
DESCRIPTION:
URL:https://busanforeignschool.org/event/ptc-schedules-close/
CATEGORIES:BFS Academic
END:VEVENT
BEGIN:VEVENT
DTSTART;VALUE=DATE:20260312
DTEND;VALUE=DATE:20260313
DTSTAMP:20260421T200041
CREATED:20250214T132354Z
LAST-MODIFIED:20260312T221502Z
UID:8032-1773273600-1773359999@busanforeignschool.org
SUMMARY:Parent Teacher Conferences (Evening)
DESCRIPTION:
URL:https://busanforeignschool.org/event/parent-teacher-conferences-evening-2/
CATEGORIES:BFS Academic
END:VEVENT
BEGIN:VEVENT
DTSTART;VALUE=DATE:20260313
DTEND;VALUE=DATE:20260314
DTSTAMP:20260421T200041
CREATED:20250214T132354Z
LAST-MODIFIED:20260313T221501Z
UID:8033-1773360000-1773446399@busanforeignschool.org
SUMMARY:Parent Teacher Conferences (No School)
DESCRIPTION:
URL:https://busanforeignschool.org/event/parent-teacher-conferences-no-school-3/
CATEGORIES:BFS Academic
END:VEVENT
BEGIN:VEVENT
DTSTART;TZID=Asia/Seoul:20260313T113000
DTEND;TZID=Asia/Seoul:20260313T123000
DTSTAMP:20260421T200041
CREATED:20240408T232958Z
LAST-MODIFIED:20240416T232948Z
UID:6263-1773401400-1773405000@busanforeignschool.org
SUMMARY:PTSO Meeting
DESCRIPTION:
URL:https://busanforeignschool.org/event/ptso-meeting-25/
END:VEVENT
BEGIN:VEVENT
DTSTART;VALUE=DATE:20260314
DTEND;VALUE=DATE:20260315
DTSTAMP:20260421T200041
CREATED:20251211T123006Z
LAST-MODIFIED:20260314T221503Z
UID:9412-1773446400-1773532799@busanforeignschool.org
SUMMARY:SAT
DESCRIPTION:
URL:https://busanforeignschool.org/event/sat-16/
CATEGORIES:BFS Academic
END:VEVENT
BEGIN:VEVENT
DTSTART;VALUE=DATE:20260316
DTEND;VALUE=DATE:20260318
DTSTAMP:20260421T200041
CREATED:20260210T213002Z
LAST-MODIFIED:20260317T221502Z
UID:9785-1773619200-1773791999@busanforeignschool.org
SUMMARY:Guest Speaker: Jordan Hattar
DESCRIPTION:
URL:https://busanforeignschool.org/event/guest-speaker-jordan-hattar/
CATEGORIES:BFS Academic
END:VEVENT
BEGIN:VEVENT
DTSTART;VALUE=DATE:20260318
DTEND;VALUE=DATE:20260319
DTSTAMP:20260421T200041
CREATED:20260220T220003Z
LAST-MODIFIED:20260318T221504Z
UID:9824-1773792000-1773878399@busanforeignschool.org
SUMMARY:MS/HS Adventure Day
DESCRIPTION:
URL:https://busanforeignschool.org/event/ms-hs-adventure-day/
CATEGORIES:BFS Academic
END:VEVENT
BEGIN:VEVENT
DTSTART;VALUE=DATE:20260319
DTEND;VALUE=DATE:20260320
DTSTAMP:20260421T200041
CREATED:20260123T204508Z
LAST-MODIFIED:20260319T221509Z
UID:9663-1773878400-1773964799@busanforeignschool.org
SUMMARY:HS Student of the Quarter Assembly
DESCRIPTION:
URL:https://busanforeignschool.org/event/hs-student-of-the-quarter-assembly-3/
CATEGORIES:BFS Academic
END:VEVENT
BEGIN:VEVENT
DTSTART;VALUE=DATE:20260321
DTEND;VALUE=DATE:20260322
DTSTAMP:20260421T200041
CREATED:20251211T123007Z
LAST-MODIFIED:20260319T221509Z
UID:9413-1774051200-1774137599@busanforeignschool.org
SUMMARY:KIMEA ES Choral Festival (Seoul)
DESCRIPTION:
URL:https://busanforeignschool.org/event/kimea-es-choral-festival-seoul/
CATEGORIES:BFS Academic
END:VEVENT
BEGIN:VEVENT
DTSTART;VALUE=DATE:20260323
DTEND;VALUE=DATE:20260328
DTSTAMP:20260421T200041
CREATED:20250214T132354Z
LAST-MODIFIED:20260319T221509Z
UID:8034-1774224000-1774655999@busanforeignschool.org
SUMMARY:Spring Break (No School)
DESCRIPTION:
URL:https://busanforeignschool.org/event/spring-break-no-school/
CATEGORIES:BFS Academic
END:VEVENT
BEGIN:VEVENT
DTSTART;TZID=Asia/Seoul:20260403T082000
DTEND;TZID=Asia/Seoul:20260403T083500
DTSTAMP:20260421T200041
CREATED:20241004T070450Z
LAST-MODIFIED:20241112T093448Z
UID:7319-1775204400-1775205300@busanforeignschool.org
SUMMARY:Friday Foyer!
DESCRIPTION:
URL:https://busanforeignschool.org/event/friday-foyer-18/
CATEGORIES:BFS Academic
END:VEVENT
BEGIN:VEVENT
DTSTART;TZID=Asia/Seoul:20260403T103000
DTEND;TZID=Asia/Seoul:20260403T121000
DTSTAMP:20260421T200041
CREATED:20260213T213003Z
LAST-MODIFIED:20260319T221509Z
UID:9800-1775212200-1775218200@busanforeignschool.org
SUMMARY:EC/ES PTSO Egg Hunt (Field)
DESCRIPTION:
URL:https://busanforeignschool.org/event/ec-es-ptso-egg-hunt-field/
CATEGORIES:BFS Academic
END:VEVENT
BEGIN:VEVENT
DTSTART;VALUE=DATE:20260407
DTEND;VALUE=DATE:20260408
DTSTAMP:20260421T200041
CREATED:20260123T204509Z
LAST-MODIFIED:20260319T221509Z
UID:9664-1775520000-1775606399@busanforeignschool.org
SUMMARY:HS Soccer vs ISB
DESCRIPTION:
URL:https://busanforeignschool.org/event/hs-soccer-vs-isb/
CATEGORIES:BFS Academic
END:VEVENT
BEGIN:VEVENT
DTSTART;TZID=Asia/Seoul:20260409T170000
DTEND;TZID=Asia/Seoul:20260409T180000
DTSTAMP:20260421T200041
CREATED:20260123T204509Z
LAST-MODIFIED:20260408T124637Z
UID:9666-1775754000-1775757600@busanforeignschool.org
SUMMARY:G8 Parent meeting - Transition to HS
DESCRIPTION:
URL:https://busanforeignschool.org/event/g8-parent-meeting-transition-to-hs/
CATEGORIES:BFS Academic
END:VEVENT
BEGIN:VEVENT
DTSTART;VALUE=DATE:20260410
DTEND;VALUE=DATE:20260411
DTSTAMP:20260421T200041
CREATED:20260123T204509Z
LAST-MODIFIED:20260410T131545Z
UID:9668-1775779200-1775865599@busanforeignschool.org
SUMMARY:Purple Up Day - wear 💜 to support US military students
DESCRIPTION:
URL:https://busanforeignschool.org/event/purple-up-day-wear-%f0%9f%92%9c-to-support-us-military-students/
CATEGORIES:BFS Academic
END:VEVENT
BEGIN:VEVENT
DTSTART;VALUE=DATE:20260410
DTEND;VALUE=DATE:20260411
DTSTAMP:20260421T200041
CREATED:20260123T204509Z
LAST-MODIFIED:20260410T131545Z
UID:9669-1775779200-1775865599@busanforeignschool.org
SUMMARY:MS BBall Battle of Busan vs ISB
DESCRIPTION:
URL:https://busanforeignschool.org/event/ms-b-ball-vs-isb/
CATEGORIES:BFS Academic
END:VEVENT
BEGIN:VEVENT
DTSTART;TZID=Asia/Seoul:20260410T110000
DTEND;TZID=Asia/Seoul:20260410T120000
DTSTAMP:20260421T200041
CREATED:20251211T123007Z
LAST-MODIFIED:20260409T130053Z
UID:9414-1775818800-1775822400@busanforeignschool.org
SUMMARY:PTSO Meeting
DESCRIPTION:
URL:https://busanforeignschool.org/event/ptso-meeting-35/
CATEGORIES:BFS Academic
END:VEVENT
BEGIN:VEVENT
DTSTART;TZID=Asia/Seoul:20260410T113000
DTEND;TZID=Asia/Seoul:20260410T123000
DTSTAMP:20260421T200041
CREATED:20240410T232946Z
LAST-MODIFIED:20240416T232948Z
UID:6282-1775820600-1775824200@busanforeignschool.org
SUMMARY:PTSO Meeting
DESCRIPTION:
URL:https://busanforeignschool.org/event/ptso-meeting-26/
END:VEVENT
BEGIN:VEVENT
DTSTART;TZID=Asia/Seoul:20260410T170000
DTEND;TZID=Asia/Seoul:20260410T180000
DTSTAMP:20260421T200041
CREATED:20260123T204509Z
LAST-MODIFIED:20260409T130053Z
UID:9667-1775840400-1775844000@busanforeignschool.org
SUMMARY:G5 Parent Meeting - Transition to MS
DESCRIPTION:
URL:https://busanforeignschool.org/event/g5-parent-meeting-transition-to-ms/
CATEGORIES:BFS Academic
END:VEVENT
BEGIN:VEVENT
DTSTART;VALUE=DATE:20260413
DTEND;VALUE=DATE:20260414
DTSTAMP:20260421T200041
CREATED:20260123T204509Z
LAST-MODIFIED:20260413T133059Z
UID:9670-1776038400-1776124799@busanforeignschool.org
SUMMARY:HS Soccer Battle of Busan vs ISB
DESCRIPTION:
URL:https://busanforeignschool.org/event/hs-soccer-vs-isb-2/
CATEGORIES:BFS Academic
END:VEVENT
END:VCALENDAR