BEGIN:VCALENDAR
VERSION:2.0
PRODID:-//Busan Foreign School - ECPv6.15.20//NONSGML v1.0//EN
CALSCALE:GREGORIAN
METHOD:PUBLISH
X-WR-CALNAME:Busan Foreign School
X-ORIGINAL-URL:https://busanforeignschool.org
X-WR-CALDESC:Events for Busan Foreign School
REFRESH-INTERVAL;VALUE=DURATION:PT1H
X-Robots-Tag:noindex
X-PUBLISHED-TTL:PT1H
BEGIN:VTIMEZONE
TZID:Asia/Seoul
BEGIN:STANDARD
TZOFFSETFROM:+0900
TZOFFSETTO:+0900
TZNAME:KST
DTSTART:20230101T000000
END:STANDARD
END:VTIMEZONE
BEGIN:VEVENT
DTSTART;VALUE=DATE:20240401
DTEND;VALUE=DATE:20240402
DTSTAMP:20260422T035016
CREATED:20240228T160005Z
LAST-MODIFIED:20240228T160253Z
UID:5250-1711929600-1712015999@busanforeignschool.org
SUMMARY:Quarter 4 Begins
DESCRIPTION:
URL:https://busanforeignschool.org/event/quarter-4-begins/
CATEGORIES:BFS Academic
ATTACH;FMTTYPE=image/jpeg:https://busanforeignschool.org/wp-content/uploads/2024/02/BFS-Academic.jpg
END:VEVENT
BEGIN:VEVENT
DTSTART;VALUE=DATE:20240401
DTEND;VALUE=DATE:20240402
DTSTAMP:20260422T035016
CREATED:20240228T160005Z
LAST-MODIFIED:20240228T160253Z
UID:5251-1711929600-1712015999@busanforeignschool.org
SUMMARY:School Resumes
DESCRIPTION:
URL:https://busanforeignschool.org/event/school-resumes/
CATEGORIES:BFS Academic
ATTACH;FMTTYPE=image/jpeg:https://busanforeignschool.org/wp-content/uploads/2024/02/BFS-Academic.jpg
END:VEVENT
BEGIN:VEVENT
DTSTART;VALUE=DATE:20240325
DTEND;VALUE=DATE:20240330
DTSTAMP:20260422T035016
CREATED:20240228T160005Z
LAST-MODIFIED:20240228T160253Z
UID:5249-1711324800-1711756799@busanforeignschool.org
SUMMARY:Spring Break
DESCRIPTION:
URL:https://busanforeignschool.org/event/spring-break/
CATEGORIES:BFS Academic
ATTACH;FMTTYPE=image/jpeg:https://busanforeignschool.org/wp-content/uploads/2024/02/BFS-Academic.jpg
END:VEVENT
BEGIN:VEVENT
DTSTART;TZID=Asia/Seoul:20240322T180000
DTEND;TZID=Asia/Seoul:20240322T190000
DTSTAMP:20260422T035016
CREATED:20240228T160005Z
LAST-MODIFIED:20240228T160253Z
UID:5248-1711130400-1711134000@busanforeignschool.org
SUMMARY:MSHS Spring Concert
DESCRIPTION:
URL:https://busanforeignschool.org/event/mshs-spring-concert/
CATEGORIES:BFS Academic
ATTACH;FMTTYPE=image/jpeg:https://busanforeignschool.org/wp-content/uploads/2024/02/BFS-Academic.jpg
END:VEVENT
BEGIN:VEVENT
DTSTART;VALUE=DATE:20240322
DTEND;VALUE=DATE:20240323
DTSTAMP:20260422T035016
CREATED:20240228T160005Z
LAST-MODIFIED:20240228T160253Z
UID:5247-1711065600-1711151999@busanforeignschool.org
SUMMARY:Quarter 3 Ends
DESCRIPTION:
URL:https://busanforeignschool.org/event/quarter-3-ends/
CATEGORIES:BFS Academic
ATTACH;FMTTYPE=image/jpeg:https://busanforeignschool.org/wp-content/uploads/2024/02/BFS-Academic.jpg
END:VEVENT
BEGIN:VEVENT
DTSTART;TZID=Asia/Seoul:20240321T090000
DTEND;TZID=Asia/Seoul:20240321T100000
DTSTAMP:20260422T035016
CREATED:20240228T174047Z
LAST-MODIFIED:20240228T174048Z
UID:5483-1711011600-1711015200@busanforeignschool.org
SUMMARY:HS Futsal Invitational @ GIFS
DESCRIPTION:
URL:https://busanforeignschool.org/event/hs-futsal-invitational-gifs/
CATEGORIES:BFS Athletics
ATTACH;FMTTYPE=image/jpeg:https://busanforeignschool.org/wp-content/uploads/2024/02/BFS-Athletics.jpg
END:VEVENT
BEGIN:VEVENT
DTSTART;VALUE=DATE:20240320
DTEND;VALUE=DATE:20240324
DTSTAMP:20260422T035016
CREATED:20240228T160005Z
LAST-MODIFIED:20240228T160253Z
UID:5246-1710892800-1711238399@busanforeignschool.org
SUMMARY:EARCOS Teacher Conferences
DESCRIPTION:
URL:https://busanforeignschool.org/event/earcos-teacher-conferences/
CATEGORIES:BFS Academic
ATTACH;FMTTYPE=image/jpeg:https://busanforeignschool.org/wp-content/uploads/2024/02/BFS-Academic.jpg
END:VEVENT
BEGIN:VEVENT
DTSTART;VALUE=DATE:20240320
DTEND;VALUE=DATE:20240321
DTSTAMP:20260422T035017
CREATED:20240228T160005Z
LAST-MODIFIED:20240228T160253Z
UID:5244-1710892800-1710979199@busanforeignschool.org
SUMMARY:HS Student of the Quarter Assembly
DESCRIPTION:
URL:https://busanforeignschool.org/event/hs-student-of-the-quarter-assembly/
CATEGORIES:BFS Academic
ATTACH;FMTTYPE=image/jpeg:https://busanforeignschool.org/wp-content/uploads/2024/02/BFS-Academic.jpg
END:VEVENT
BEGIN:VEVENT
DTSTART;TZID=Asia/Seoul:20240319T161500
DTEND;TZID=Asia/Seoul:20240319T171500
DTSTAMP:20260422T035017
CREATED:20240228T174047Z
LAST-MODIFIED:20240228T174048Z
UID:5482-1710864900-1710868500@busanforeignschool.org
SUMMARY:MS Basketball Friendly vs ISB
DESCRIPTION:(Girls @ BFS\, Boys @ ISB)
URL:https://busanforeignschool.org/event/ms-basketball-friendly-vs-isb/
CATEGORIES:BFS Athletics
ATTACH;FMTTYPE=image/jpeg:https://busanforeignschool.org/wp-content/uploads/2024/02/BFS-Athletics.jpg
END:VEVENT
BEGIN:VEVENT
DTSTART;TZID=Asia/Seoul:20240315T090000
DTEND;TZID=Asia/Seoul:20240315T150000
DTSTAMP:20260422T035017
CREATED:20240228T160004Z
LAST-MODIFIED:20240228T160253Z
UID:5231-1710493200-1710514800@busanforeignschool.org
SUMMARY:Parent Teacher Conferences (no school)
DESCRIPTION:
URL:https://busanforeignschool.org/event/parent-teacher-conferences-no-school/
CATEGORIES:BFS Academic
ATTACH;FMTTYPE=image/jpeg:https://busanforeignschool.org/wp-content/uploads/2024/02/BFS-Academic.jpg
END:VEVENT
BEGIN:VEVENT
DTSTART;VALUE=DATE:20240315
DTEND;VALUE=DATE:20240316
DTSTAMP:20260422T035017
CREATED:20240228T160005Z
LAST-MODIFIED:20240228T160253Z
UID:5243-1710460800-1710547199@busanforeignschool.org
SUMMARY:Parent Teacher Conf. (No School)
DESCRIPTION:
URL:https://busanforeignschool.org/event/parent-teacher-conf-no-school/
CATEGORIES:BFS Academic
ATTACH;FMTTYPE=image/jpeg:https://busanforeignschool.org/wp-content/uploads/2024/02/BFS-Academic.jpg
END:VEVENT
BEGIN:VEVENT
DTSTART;TZID=Asia/Seoul:20240314T160000
DTEND;TZID=Asia/Seoul:20240314T190000
DTSTAMP:20260422T035017
CREATED:20240228T160004Z
LAST-MODIFIED:20240228T160253Z
UID:5230-1710432000-1710442800@busanforeignschool.org
SUMMARY:Parent Teacher Conf. (Evening)
DESCRIPTION:
URL:https://busanforeignschool.org/event/parent-teacher-conf-evening/
CATEGORIES:BFS Academic
ATTACH;FMTTYPE=image/jpeg:https://busanforeignschool.org/wp-content/uploads/2024/02/BFS-Academic.jpg
END:VEVENT
BEGIN:VEVENT
DTSTART;TZID=Asia/Seoul:20240314T084000
DTEND;TZID=Asia/Seoul:20240314T094000
DTSTAMP:20260422T035017
CREATED:20240228T160004Z
LAST-MODIFIED:20240228T160253Z
UID:5228-1710405600-1710409200@busanforeignschool.org
SUMMARY:ES SHARK SLO Assembly
DESCRIPTION: (Hardworking) @ 8:40 a.m.
URL:https://busanforeignschool.org/event/es-shark-slo-assembly/
CATEGORIES:BFS Academic
ATTACH;FMTTYPE=image/jpeg:https://busanforeignschool.org/wp-content/uploads/2024/02/BFS-Academic.jpg
END:VEVENT
BEGIN:VEVENT
DTSTART;VALUE=DATE:20240313
DTEND;VALUE=DATE:20240314
DTSTAMP:20260422T035017
CREATED:20240228T160004Z
LAST-MODIFIED:20240228T160253Z
UID:5229-1710288000-1710374399@busanforeignschool.org
SUMMARY:Body Positivity Advisories
DESCRIPTION:
URL:https://busanforeignschool.org/event/body-positivity-advisories/
CATEGORIES:BFS Academic
ATTACH;FMTTYPE=image/jpeg:https://busanforeignschool.org/wp-content/uploads/2024/02/BFS-Academic.jpg
END:VEVENT
BEGIN:VEVENT
DTSTART;TZID=Asia/Seoul:20240312T120000
DTEND;TZID=Asia/Seoul:20240312T133000
DTSTAMP:20260422T035017
CREATED:20240228T160004Z
LAST-MODIFIED:20240228T160253Z
UID:5227-1710244800-1710250200@busanforeignschool.org
SUMMARY:Senior Cap & Gown Photos
DESCRIPTION:
URL:https://busanforeignschool.org/event/senior-cap-gown-photos/
CATEGORIES:BFS Academic
ATTACH;FMTTYPE=image/jpeg:https://busanforeignschool.org/wp-content/uploads/2024/02/BFS-Academic.jpg
END:VEVENT
BEGIN:VEVENT
DTSTART;VALUE=DATE:20240309
DTEND;VALUE=DATE:20240310
DTSTAMP:20260422T035017
CREATED:20240228T160004Z
LAST-MODIFIED:20240228T160253Z
UID:5226-1709942400-1710028799@busanforeignschool.org
SUMMARY:SAT
DESCRIPTION:
URL:https://busanforeignschool.org/event/sat/
CATEGORIES:BFS Academic
ATTACH;FMTTYPE=image/jpeg:https://busanforeignschool.org/wp-content/uploads/2024/02/BFS-Academic.jpg
END:VEVENT
BEGIN:VEVENT
DTSTART;TZID=Asia/Seoul:20240308T113000
DTEND;TZID=Asia/Seoul:20240308T123000
DTSTAMP:20260422T035017
CREATED:20240228T160004Z
LAST-MODIFIED:20240228T160253Z
UID:5224-1709897400-1709901000@busanforeignschool.org
SUMMARY:PTSO Meeting
DESCRIPTION:
URL:https://busanforeignschool.org/event/ptso-meeting/
CATEGORIES:BFS Academic
ATTACH;FMTTYPE=image/jpeg:https://busanforeignschool.org/wp-content/uploads/2024/02/BFS-Academic.jpg
END:VEVENT
BEGIN:VEVENT
DTSTART;VALUE=DATE:20240308
DTEND;VALUE=DATE:20240310
DTSTAMP:20260422T035017
CREATED:20240228T174047Z
LAST-MODIFIED:20240228T174047Z
UID:5481-1709856000-1710028799@busanforeignschool.org
SUMMARY:HS Basketball Busan Invitational
DESCRIPTION:
URL:https://busanforeignschool.org/event/hs-basketball-busan-invitational/
CATEGORIES:BFS Athletics
ATTACH;FMTTYPE=image/jpeg:https://busanforeignschool.org/wp-content/uploads/2024/02/BFS-Athletics.jpg
END:VEVENT
BEGIN:VEVENT
DTSTART;VALUE=DATE:20240308
DTEND;VALUE=DATE:20240309
DTSTAMP:20260422T035017
CREATED:20240228T160004Z
LAST-MODIFIED:20240228T160253Z
UID:5225-1709856000-1709942399@busanforeignschool.org
SUMMARY:International Women's Day
DESCRIPTION:
URL:https://busanforeignschool.org/event/international-womens-day/
CATEGORIES:BFS Academic
ATTACH;FMTTYPE=image/jpeg:https://busanforeignschool.org/wp-content/uploads/2024/02/BFS-Academic.jpg
END:VEVENT
BEGIN:VEVENT
DTSTART;TZID=Asia/Seoul:20240302T090000
DTEND;TZID=Asia/Seoul:20240302T100000
DTSTAMP:20260422T035017
CREATED:20240228T174047Z
LAST-MODIFIED:20240228T174047Z
UID:5480-1709370000-1709373600@busanforeignschool.org
SUMMARY:KISAC MS Volleyball
DESCRIPTION:Girls @ KISJ (Jeju)\nBoys @ DIS
URL:https://busanforeignschool.org/event/kisac-ms-volleyball-2/
CATEGORIES:BFS Athletics
ATTACH;FMTTYPE=image/jpeg:https://busanforeignschool.org/wp-content/uploads/2024/02/BFS-Athletics.jpg
END:VEVENT
BEGIN:VEVENT
DTSTART;TZID=Asia/Seoul:20240301T090000
DTEND;TZID=Asia/Seoul:20240301T100000
DTSTAMP:20260422T035017
CREATED:20240228T174047Z
LAST-MODIFIED:20240228T174047Z
UID:5479-1709283600-1709287200@busanforeignschool.org
SUMMARY:KISAC MS Volleyball
DESCRIPTION:Girls @ KISJ (Jeju)\nBoys @ DIS
URL:https://busanforeignschool.org/event/kisac-ms-volleyball/
CATEGORIES:BFS Athletics
ATTACH;FMTTYPE=image/jpeg:https://busanforeignschool.org/wp-content/uploads/2024/02/BFS-Athletics.jpg
END:VEVENT
BEGIN:VEVENT
DTSTART;VALUE=DATE:20240301
DTEND;VALUE=DATE:20240302
DTSTAMP:20260422T035017
CREATED:20240228T160004Z
LAST-MODIFIED:20240228T160253Z
UID:5223-1709251200-1709337599@busanforeignschool.org
SUMMARY:Samil Day (No School)
DESCRIPTION:
URL:https://busanforeignschool.org/event/samil-day-no-school/
CATEGORIES:BFS Academic
ATTACH;FMTTYPE=image/jpeg:https://busanforeignschool.org/wp-content/uploads/2024/02/BFS-Academic.jpg
END:VEVENT
BEGIN:VEVENT
DTSTART;VALUE=DATE:20240229
DTEND;VALUE=DATE:20240303
DTSTAMP:20260422T035017
CREATED:20240228T160004Z
LAST-MODIFIED:20240228T160303Z
UID:5222-1709164800-1709423999@busanforeignschool.org
SUMMARY:GECMUN @ Jeju
DESCRIPTION:Shinwa World Jeju
URL:https://busanforeignschool.org/event/gecmun-jeju/
LOCATION:Jeju Shinwha World\, 304번길 38 Sinhwayeoksa-ro\, Andeok-myeon\, 특별자치도\, Seogwipo\, Jeju-do\, South Korea
CATEGORIES:BFS Academic
ATTACH;FMTTYPE=image/jpeg:https://busanforeignschool.org/wp-content/uploads/2024/02/BFS-Academic.jpg
END:VEVENT
END:VCALENDAR