BEGIN:VCALENDAR
VERSION:2.0
PRODID:-//Busan Foreign School - ECPv6.15.20//NONSGML v1.0//EN
CALSCALE:GREGORIAN
METHOD:PUBLISH
X-WR-CALNAME:Busan Foreign School
X-ORIGINAL-URL:https://busanforeignschool.org
X-WR-CALDESC:Events for Busan Foreign School
REFRESH-INTERVAL;VALUE=DURATION:PT1H
X-Robots-Tag:noindex
X-PUBLISHED-TTL:PT1H
BEGIN:VTIMEZONE
TZID:Asia/Seoul
BEGIN:STANDARD
TZOFFSETFROM:+0900
TZOFFSETTO:+0900
TZNAME:KST
DTSTART:20240101T000000
END:STANDARD
END:VTIMEZONE
BEGIN:VEVENT
DTSTART;VALUE=DATE:20251203
DTEND;VALUE=DATE:20251204
DTSTAMP:20260420T232230
CREATED:20251105T103957Z
LAST-MODIFIED:20251203T114504Z
UID:9182-1764720000-1764806399@busanforeignschool.org
SUMMARY:MS SLO Assembly
DESCRIPTION:
URL:https://busanforeignschool.org/event/ms-slo-assembly/
CATEGORIES:BFS Academic
END:VEVENT
BEGIN:VEVENT
DTSTART;TZID=Asia/Seoul:20251205T082000
DTEND;TZID=Asia/Seoul:20251205T083500
DTSTAMP:20260420T232230
CREATED:20241004T070449Z
LAST-MODIFIED:20241112T093448Z
UID:7315-1764922800-1764923700@busanforeignschool.org
SUMMARY:Friday Foyer!
DESCRIPTION:
URL:https://busanforeignschool.org/event/friday-foyer-14/
CATEGORIES:BFS Academic
END:VEVENT
BEGIN:VEVENT
DTSTART;TZID=Asia/Seoul:20251205T110000
DTEND;TZID=Asia/Seoul:20251205T120000
DTSTAMP:20260420T232230
CREATED:20250822T055756Z
LAST-MODIFIED:20251204T114502Z
UID:8716-1764932400-1764936000@busanforeignschool.org
SUMMARY:PTSO meeting
DESCRIPTION:
URL:https://busanforeignschool.org/event/ptso-meeting-34/
CATEGORIES:BFS Academic
END:VEVENT
BEGIN:VEVENT
DTSTART;TZID=Asia/Seoul:20251205T170000
DTEND;TZID=Asia/Seoul:20251205T180000
DTSTAMP:20260420T232230
CREATED:20250822T055756Z
LAST-MODIFIED:20251204T114502Z
UID:8715-1764954000-1764957600@busanforeignschool.org
SUMMARY:ES Winter Concert and Art Showcase
DESCRIPTION:
URL:https://busanforeignschool.org/event/ec-es-winter-concert-and-art-showcase/
CATEGORIES:BFS Academic
END:VEVENT
BEGIN:VEVENT
DTSTART;TZID=Asia/Seoul:20251206T073000
DTEND;TZID=Asia/Seoul:20251206T110000
DTSTAMP:20260420T232230
CREATED:20250822T055756Z
LAST-MODIFIED:20251205T120005Z
UID:8714-1765006200-1765018800@busanforeignschool.org
SUMMARY:SAT
DESCRIPTION:
URL:https://busanforeignschool.org/event/sat-15/
CATEGORIES:BFS Academic
END:VEVENT
BEGIN:VEVENT
DTSTART;TZID=Asia/Seoul:20251206T090000
DTEND;TZID=Asia/Seoul:20251206T190000
DTSTAMP:20260420T232230
CREATED:20251114T105458Z
LAST-MODIFIED:20251205T120005Z
UID:9249-1765011600-1765047600@busanforeignschool.org
SUMMARY:Global Math Data Challenge
DESCRIPTION:
URL:https://busanforeignschool.org/event/global-math-data-challenge/
CATEGORIES:BFS Academic
END:VEVENT
BEGIN:VEVENT
DTSTART;TZID=Asia/Seoul:20251209T080000
DTEND;TZID=Asia/Seoul:20251209T090000
DTSTAMP:20260420T232230
CREATED:20251203T114504Z
LAST-MODIFIED:20251204T114502Z
UID:9332-1765267200-1765270800@busanforeignschool.org
SUMMARY:Announce spirit days
DESCRIPTION:
URL:https://busanforeignschool.org/event/announce-spirit-days/
CATEGORIES:BFS Academic
END:VEVENT
BEGIN:VEVENT
DTSTART;TZID=Asia/Seoul:20251209T154000
DTEND;TZID=Asia/Seoul:20251209T164000
DTSTAMP:20260420T232230
CREATED:20251203T114504Z
LAST-MODIFIED:20251208T121511Z
UID:9333-1765294800-1765298400@busanforeignschool.org
SUMMARY:CSHS ES Codementum (Library)
DESCRIPTION:
URL:https://busanforeignschool.org/event/cshs-es-codementum-library/
CATEGORIES:BFS Academic
END:VEVENT
BEGIN:VEVENT
DTSTART;TZID=Asia/Seoul:20251210T154000
DTEND;TZID=Asia/Seoul:20251210T164000
DTSTAMP:20260420T232230
CREATED:20251203T114504Z
LAST-MODIFIED:20251209T121505Z
UID:9334-1765381200-1765384800@busanforeignschool.org
SUMMARY:CSHS ES Codementum (Library)
DESCRIPTION:
URL:https://busanforeignschool.org/event/cshs-es-codementum-library-2/
CATEGORIES:BFS Academic
END:VEVENT
BEGIN:VEVENT
DTSTART;TZID=Asia/Seoul:20251212T113000
DTEND;TZID=Asia/Seoul:20251212T123000
DTSTAMP:20260420T232230
CREATED:20240228T160008Z
LAST-MODIFIED:20240416T232948Z
UID:5351-1765539000-1765542600@busanforeignschool.org
SUMMARY:PTSO Meeting
DESCRIPTION:
URL:https://busanforeignschool.org/event/ptso-meeting-22/
CATEGORIES:BFS Academic
ATTACH;FMTTYPE=image/jpeg:https://busanforeignschool.org/wp-content/uploads/2024/02/BFS-Academic.jpg
END:VEVENT
BEGIN:VEVENT
DTSTART;TZID=Asia/Seoul:20251212T180000
DTEND;TZID=Asia/Seoul:20251212T193000
DTSTAMP:20260420T232230
CREATED:20250822T055756Z
LAST-MODIFIED:20251211T123006Z
UID:8717-1765562400-1765567800@busanforeignschool.org
SUMMARY:MS/HS Band and Choir Concert
DESCRIPTION:
URL:https://busanforeignschool.org/event/ms-hs-band-and-choir-concert/
CATEGORIES:BFS Academic
END:VEVENT
BEGIN:VEVENT
DTSTART;VALUE=DATE:20251213
DTEND;VALUE=DATE:20251214
DTSTAMP:20260420T232230
CREATED:20250822T055756Z
LAST-MODIFIED:20251213T124503Z
UID:8718-1765584000-1765670399@busanforeignschool.org
SUMMARY:SKAIS MUN
DESCRIPTION:
URL:https://busanforeignschool.org/event/skais-mun/
CATEGORIES:BFS Academic
END:VEVENT
BEGIN:VEVENT
DTSTART;TZID=Asia/Seoul:20251215T144000
DTEND;TZID=Asia/Seoul:20251215T152500
DTSTAMP:20260420T232230
CREATED:20251014T084959Z
LAST-MODIFIED:20251214T124507Z
UID:8978-1765809600-1765812300@busanforeignschool.org
SUMMARY:G3-5 Science Learning Fair (Gym)
DESCRIPTION:
URL:https://busanforeignschool.org/event/g3-5-science-learning-fair-gym/
CATEGORIES:BFS Academic
END:VEVENT
BEGIN:VEVENT
DTSTART;TZID=Asia/Seoul:20251217T083000
DTEND;TZID=Asia/Seoul:20251217T090000
DTSTAMP:20260420T232230
CREATED:20250822T055756Z
LAST-MODIFIED:20251216T124503Z
UID:8719-1765960200-1765962000@busanforeignschool.org
SUMMARY:HS SOQ Assembly
DESCRIPTION:
URL:https://busanforeignschool.org/event/hs-soq-assembly/
CATEGORIES:BFS Academic
END:VEVENT
BEGIN:VEVENT
DTSTART;TZID=Asia/Seoul:20251217T144500
DTEND;TZID=Asia/Seoul:20251217T153000
DTSTAMP:20260420T232230
CREATED:20251029T095500Z
LAST-MODIFIED:20251216T124503Z
UID:9147-1765982700-1765985400@busanforeignschool.org
SUMMARY:EC Concert & Gingerbread House Making (Auditorium)
DESCRIPTION:
URL:https://busanforeignschool.org/event/ec-concert-gingerbread-house-making-auditorium/
CATEGORIES:BFS Academic
END:VEVENT
BEGIN:VEVENT
DTSTART;VALUE=DATE:20251219
DTEND;VALUE=DATE:20251220
DTSTAMP:20260420T232230
CREATED:20250214T132354Z
LAST-MODIFIED:20251219T183014Z
UID:8029-1766102400-1766188799@busanforeignschool.org
SUMMARY:End of Quarter 2 (Early Dismissal at 1pm)
DESCRIPTION:
URL:https://busanforeignschool.org/event/end-of-quarter-2-early-dismissal-at-1pm/
CATEGORIES:BFS Academic
END:VEVENT
BEGIN:VEVENT
DTSTART;VALUE=DATE:20251222
DTEND;VALUE=DATE:20260110
DTSTAMP:20260420T232230
CREATED:20250815T055757Z
LAST-MODIFIED:20260109T194504Z
UID:8654-1766361600-1768003199@busanforeignschool.org
SUMMARY:Winter Break
DESCRIPTION:
URL:https://busanforeignschool.org/event/winter-break-2/
CATEGORIES:BFS Academic
END:VEVENT
BEGIN:VEVENT
DTSTART;TZID=Asia/Seoul:20260102T082000
DTEND;TZID=Asia/Seoul:20260102T083500
DTSTAMP:20260420T232230
CREATED:20241004T070449Z
LAST-MODIFIED:20241112T093448Z
UID:7316-1767342000-1767342900@busanforeignschool.org
SUMMARY:Friday Foyer!
DESCRIPTION:
URL:https://busanforeignschool.org/event/friday-foyer-15/
CATEGORIES:BFS Academic
END:VEVENT
BEGIN:VEVENT
DTSTART;TZID=Asia/Seoul:20260109T113000
DTEND;TZID=Asia/Seoul:20260109T123000
DTSTAMP:20260420T232230
CREATED:20240228T160008Z
LAST-MODIFIED:20240416T232948Z
UID:5352-1767958200-1767961800@busanforeignschool.org
SUMMARY:PTSO Meeting
DESCRIPTION:
URL:https://busanforeignschool.org/event/ptso-meeting-23/
CATEGORIES:BFS Academic
ATTACH;FMTTYPE=image/jpeg:https://busanforeignschool.org/wp-content/uploads/2024/02/BFS-Academic.jpg
END:VEVENT
BEGIN:VEVENT
DTSTART;VALUE=DATE:20260115
DTEND;VALUE=DATE:20260116
DTSTAMP:20260420T232230
CREATED:20251211T123004Z
LAST-MODIFIED:20260111T194503Z
UID:9395-1768435200-1768521599@busanforeignschool.org
SUMMARY:HS BBall - Boys @ISB\, Girls @BFS
DESCRIPTION:
URL:https://busanforeignschool.org/event/hs-bball-boys-isb-girls-bfs/
CATEGORIES:BFS Academic
END:VEVENT
BEGIN:VEVENT
DTSTART;VALUE=DATE:20260119
DTEND;VALUE=DATE:20260120
DTSTAMP:20260420T232230
CREATED:20251211T123004Z
LAST-MODIFIED:20260111T194503Z
UID:9397-1768780800-1768867199@busanforeignschool.org
SUMMARY:MS Volleyball Boys @ ISB\, Girls @ BFS
DESCRIPTION:
URL:https://busanforeignschool.org/event/ms-volleyball-boys-isb-girls-bfs/
CATEGORIES:BFS Academic
END:VEVENT
BEGIN:VEVENT
DTSTART;VALUE=DATE:20260119
DTEND;VALUE=DATE:20260120
DTSTAMP:20260420T232230
CREATED:20260113T194507Z
LAST-MODIFIED:20260119T201504Z
UID:9559-1768780800-1768867199@busanforeignschool.org
SUMMARY:HS Boys/Girls Bball ISB and BFS
DESCRIPTION:
URL:https://busanforeignschool.org/event/hs-boys-girls-bball-isb-and-bfs/
CATEGORIES:BFS Academic
END:VEVENT
BEGIN:VEVENT
DTSTART;VALUE=DATE:20260119
DTEND;VALUE=DATE:20260124
DTSTAMP:20260420T232230
CREATED:20251211T123004Z
LAST-MODIFIED:20260123T204507Z
UID:9396-1768780800-1769212799@busanforeignschool.org
SUMMARY:Spirit Week
DESCRIPTION:
URL:https://busanforeignschool.org/event/spirit-week/
CATEGORIES:BFS Academic
END:VEVENT
BEGIN:VEVENT
DTSTART;TZID=Asia/Seoul:20260121T173000
DTEND;TZID=Asia/Seoul:20260121T183000
DTSTAMP:20260420T232230
CREATED:20251211T123006Z
LAST-MODIFIED:20260120T201602Z
UID:9401-1769016600-1769020200@busanforeignschool.org
SUMMARY:Busan Sum - professional bball event
DESCRIPTION:
URL:https://busanforeignschool.org/event/busan-sum-professional-bball-event-tentative/
CATEGORIES:BFS Academic
END:VEVENT
BEGIN:VEVENT
DTSTART;VALUE=DATE:20260122
DTEND;VALUE=DATE:20260123
DTSTAMP:20260420T232230
CREATED:20260113T194507Z
LAST-MODIFIED:20260122T204512Z
UID:9560-1769040000-1769126399@busanforeignschool.org
SUMMARY:MS Girls/Boys Vball ISB and BFS
DESCRIPTION:
URL:https://busanforeignschool.org/event/ms-girls-boys-vball-isb-and-bfs/
CATEGORIES:BFS Academic
END:VEVENT
BEGIN:VEVENT
DTSTART;TZID=Asia/Seoul:20260123T144500
DTEND;TZID=Asia/Seoul:20260123T150000
DTSTAMP:20260420T232230
CREATED:20251211T123006Z
LAST-MODIFIED:20260122T204512Z
UID:9402-1769179500-1769180400@busanforeignschool.org
SUMMARY:Pep Rally
DESCRIPTION:
URL:https://busanforeignschool.org/event/pep-rally/
CATEGORIES:BFS Academic
END:VEVENT
BEGIN:VEVENT
DTSTART;VALUE=DATE:20260124
DTEND;VALUE=DATE:20260126
DTSTAMP:20260420T232230
CREATED:20260113T194506Z
LAST-MODIFIED:20260125T210026Z
UID:9558-1769212800-1769385599@busanforeignschool.org
SUMMARY:KISAC Robotics Jeju
DESCRIPTION:
URL:https://busanforeignschool.org/event/kisac-robotics-jeju/
CATEGORIES:BFS Academic
END:VEVENT
BEGIN:VEVENT
DTSTART;VALUE=DATE:20260127
DTEND;VALUE=DATE:20260128
DTSTAMP:20260420T232230
CREATED:20251211T123006Z
LAST-MODIFIED:20260127T210015Z
UID:9403-1769472000-1769558399@busanforeignschool.org
SUMMARY:KIMEA Honor's Band @ Chadwick
DESCRIPTION:
URL:https://busanforeignschool.org/event/kimea-honors-band-chadwick/
CATEGORIES:BFS Academic
END:VEVENT
BEGIN:VEVENT
DTSTART;VALUE=DATE:20260131
DTEND;VALUE=DATE:20260201
DTSTAMP:20260420T232230
CREATED:20250822T055756Z
LAST-MODIFIED:20260131T213006Z
UID:8720-1769817600-1769903999@busanforeignschool.org
SUMMARY:SKAIS ES Volleyball Divisional @ AIS
DESCRIPTION:
URL:https://busanforeignschool.org/event/skais-es-volleyball-divisional-ais/
CATEGORIES:BFS Academic
END:VEVENT
BEGIN:VEVENT
DTSTART;VALUE=DATE:20260131
DTEND;VALUE=DATE:20260201
DTSTAMP:20260420T232230
CREATED:20250822T071255Z
LAST-MODIFIED:20260131T190003Z
UID:8774-1769817600-1769903999@busanforeignschool.org
SUMMARY:SKAIS ES Volleyball Divisional @ AIS
DESCRIPTION:
URL:https://busanforeignschool.org/event/skais-es-volleyball-divisional-ais-2/
CATEGORIES:BFS Athletics
END:VEVENT
END:VCALENDAR