BEGIN:VCALENDAR
VERSION:2.0
PRODID:-//Busan Foreign School - ECPv6.15.20//NONSGML v1.0//EN
CALSCALE:GREGORIAN
METHOD:PUBLISH
X-WR-CALNAME:Busan Foreign School
X-ORIGINAL-URL:https://busanforeignschool.org
X-WR-CALDESC:Events for Busan Foreign School
REFRESH-INTERVAL;VALUE=DURATION:PT1H
X-Robots-Tag:noindex
X-PUBLISHED-TTL:PT1H
BEGIN:VTIMEZONE
TZID:Asia/Seoul
BEGIN:STANDARD
TZOFFSETFROM:+0900
TZOFFSETTO:+0900
TZNAME:KST
DTSTART:20250101T000000
END:STANDARD
END:VTIMEZONE
BEGIN:VEVENT
DTSTART;VALUE=DATE:20260521
DTEND;VALUE=DATE:20260522
DTSTAMP:20260422T163958
CREATED:20260204T213019Z
LAST-MODIFIED:20260421T143311Z
UID:9756-1779321600-1779407999@busanforeignschool.org
SUMMARY:SKAIS MS Basketball Finals (Girls @ BFS\, Boys @ GIFS)
DESCRIPTION:
URL:https://busanforeignschool.org/event/skais-ms-basketball-finals-girls-bfs-boys-gifs/
CATEGORIES:BFS Academic
END:VEVENT
BEGIN:VEVENT
DTSTART;VALUE=DATE:20260522
DTEND;VALUE=DATE:20260523
DTSTAMP:20260422T163958
CREATED:20260407T213310Z
LAST-MODIFIED:20260421T143311Z
UID:10008-1779408000-1779494399@busanforeignschool.org
SUMMARY:MS/HS Band/Choir Concert
DESCRIPTION:
URL:https://busanforeignschool.org/event/ms-hs-band-choir-concert/
CATEGORIES:BFS Academic
END:VEVENT
BEGIN:VEVENT
DTSTART;VALUE=DATE:20260523
DTEND;VALUE=DATE:20260524
DTSTAMP:20260422T163958
CREATED:20260220T220004Z
LAST-MODIFIED:20260421T143311Z
UID:9825-1779494400-1779580799@busanforeignschool.org
SUMMARY:HS Prom
DESCRIPTION:
URL:https://busanforeignschool.org/event/hs-prom-2/
CATEGORIES:BFS Academic
END:VEVENT
BEGIN:VEVENT
DTSTART;TZID=Asia/Seoul:20260527T143000
DTEND;TZID=Asia/Seoul:20260527T153000
DTSTAMP:20260422T163958
CREATED:20260114T194505Z
LAST-MODIFIED:20260421T143311Z
UID:9570-1779892200-1779895800@busanforeignschool.org
SUMMARY:EC & Lower ES Science Learning Fair (Gym)
DESCRIPTION:
URL:https://busanforeignschool.org/event/ec-lower-es-science-learning-fair-gym/
CATEGORIES:BFS Academic
END:VEVENT
BEGIN:VEVENT
DTSTART;VALUE=DATE:20260529
DTEND;VALUE=DATE:20260530
DTSTAMP:20260422T163958
CREATED:20260420T141809Z
LAST-MODIFIED:20260421T143311Z
UID:10089-1780012800-1780099199@busanforeignschool.org
SUMMARY:MS/HS 1/2 Day Activity Afternoon
DESCRIPTION:
URL:https://busanforeignschool.org/event/ms-hs-1-2-day-activity-afternoon/
CATEGORIES:BFS Academic
END:VEVENT
BEGIN:VEVENT
DTSTART;VALUE=DATE:20260530
DTEND;VALUE=DATE:20260531
DTSTAMP:20260422T163958
CREATED:20260407T213310Z
LAST-MODIFIED:20260421T143311Z
UID:10009-1780099200-1780185599@busanforeignschool.org
SUMMARY:HS SKAIS Soccer Finals @ISB
DESCRIPTION:
URL:https://busanforeignschool.org/event/hs-skais-soccer-finals-isb/
CATEGORIES:BFS Academic
END:VEVENT
BEGIN:VEVENT
DTSTART;VALUE=DATE:20260602
DTEND;VALUE=DATE:20260603
DTSTAMP:20260422T163958
CREATED:20250822T055756Z
LAST-MODIFIED:20260421T143311Z
UID:8728-1780358400-1780444799@busanforeignschool.org
SUMMARY:SKAIS Badminton @ AIS
DESCRIPTION:
URL:https://busanforeignschool.org/event/skais-badminton-ais/
CATEGORIES:BFS Academic
END:VEVENT
BEGIN:VEVENT
DTSTART;VALUE=DATE:20260602
DTEND;VALUE=DATE:20260603
DTSTAMP:20260422T163958
CREATED:20250822T071255Z
LAST-MODIFIED:20260406T061807Z
UID:8778-1780358400-1780444799@busanforeignschool.org
SUMMARY:SKAIS Badminton @ AIS
DESCRIPTION:
URL:https://busanforeignschool.org/event/skais-badminton-ais-2/
CATEGORIES:BFS Athletics
END:VEVENT
BEGIN:VEVENT
DTSTART;VALUE=DATE:20260605
DTEND;VALUE=DATE:20260606
DTSTAMP:20260422T163958
CREATED:20260224T220004Z
LAST-MODIFIED:20260421T143311Z
UID:9846-1780617600-1780703999@busanforeignschool.org
SUMMARY:Last Day of School (Q4 Ends) - early dismissal at 12:00pm
DESCRIPTION:
URL:https://busanforeignschool.org/event/last-day-of-school-q4-ends/
CATEGORIES:BFS Academic
END:VEVENT
BEGIN:VEVENT
DTSTART;TZID=Asia/Seoul:20260605T082000
DTEND;TZID=Asia/Seoul:20260605T083500
DTSTAMP:20260422T163958
CREATED:20241004T070450Z
LAST-MODIFIED:20241112T093448Z
UID:7321-1780647600-1780648500@busanforeignschool.org
SUMMARY:Friday Foyer!
DESCRIPTION:
URL:https://busanforeignschool.org/event/friday-foyer-20/
CATEGORIES:BFS Academic
END:VEVENT
BEGIN:VEVENT
DTSTART;TZID=Asia/Seoul:20260605T090000
DTEND;TZID=Asia/Seoul:20260605T100000
DTSTAMP:20260422T163958
CREATED:20260407T213310Z
LAST-MODIFIED:20260421T143311Z
UID:10010-1780650000-1780653600@busanforeignschool.org
SUMMARY:K5 Moving on
DESCRIPTION:
URL:https://busanforeignschool.org/event/k5-moving-on/
CATEGORIES:BFS Academic
END:VEVENT
BEGIN:VEVENT
DTSTART;TZID=Asia/Seoul:20260605T100000
DTEND;TZID=Asia/Seoul:20260605T110000
DTSTAMP:20260422T163958
CREATED:20260407T213310Z
LAST-MODIFIED:20260421T143311Z
UID:10011-1780653600-1780657200@busanforeignschool.org
SUMMARY:G5 Moving on
DESCRIPTION:
URL:https://busanforeignschool.org/event/g5-moving-on/
CATEGORIES:BFS Academic
END:VEVENT
BEGIN:VEVENT
DTSTART;TZID=Asia/Seoul:20260605T110000
DTEND;TZID=Asia/Seoul:20260605T120000
DTSTAMP:20260422T163958
CREATED:20260407T213310Z
LAST-MODIFIED:20260421T143311Z
UID:10012-1780657200-1780660800@busanforeignschool.org
SUMMARY:G8 Moving On
DESCRIPTION:
URL:https://busanforeignschool.org/event/g8-moving-on/
CATEGORIES:BFS Academic
END:VEVENT
BEGIN:VEVENT
DTSTART;TZID=Asia/Seoul:20260605T170000
DTEND;TZID=Asia/Seoul:20260605T180000
DTSTAMP:20260422T163958
CREATED:20260407T213310Z
LAST-MODIFIED:20260421T143312Z
UID:10013-1780678800-1780682400@busanforeignschool.org
SUMMARY:HS Graduation
DESCRIPTION:
URL:https://busanforeignschool.org/event/hs-graduation/
CATEGORIES:BFS Academic
END:VEVENT
BEGIN:VEVENT
DTSTART;TZID=Asia/Seoul:20260703T082000
DTEND;TZID=Asia/Seoul:20260703T083500
DTSTAMP:20260422T163958
CREATED:20241004T070450Z
LAST-MODIFIED:20241112T093448Z
UID:7322-1783066800-1783067700@busanforeignschool.org
SUMMARY:Friday Foyer!
DESCRIPTION:
URL:https://busanforeignschool.org/event/friday-foyer-21/
CATEGORIES:BFS Academic
END:VEVENT
BEGIN:VEVENT
DTSTART;TZID=Asia/Seoul:20260807T082000
DTEND;TZID=Asia/Seoul:20260807T083500
DTSTAMP:20260422T163958
CREATED:20241004T070450Z
LAST-MODIFIED:20241112T093448Z
UID:7323-1786090800-1786091700@busanforeignschool.org
SUMMARY:Friday Foyer!
DESCRIPTION:
URL:https://busanforeignschool.org/event/friday-foyer-22/
CATEGORIES:BFS Academic
END:VEVENT
BEGIN:VEVENT
DTSTART;VALUE=DATE:20260812
DTEND;VALUE=DATE:20260813
DTSTAMP:20260422T163958
CREATED:20260117T194503Z
LAST-MODIFIED:20260421T143312Z
UID:9581-1786492800-1786579199@busanforeignschool.org
SUMMARY:First Day of School
DESCRIPTION:
URL:https://busanforeignschool.org/event/first-day-of-school-3/
CATEGORIES:BFS Academic
END:VEVENT
BEGIN:VEVENT
DTSTART;TZID=Asia/Seoul:20260904T082000
DTEND;TZID=Asia/Seoul:20260904T083500
DTSTAMP:20260422T163958
CREATED:20241004T070450Z
LAST-MODIFIED:20241112T093448Z
UID:7324-1788510000-1788510900@busanforeignschool.org
SUMMARY:Friday Foyer!
DESCRIPTION:
URL:https://busanforeignschool.org/event/friday-foyer-23/
CATEGORIES:BFS Academic
END:VEVENT
BEGIN:VEVENT
DTSTART;TZID=Asia/Seoul:20261002T082000
DTEND;TZID=Asia/Seoul:20261002T083500
DTSTAMP:20260422T163958
CREATED:20241004T070450Z
LAST-MODIFIED:20241112T093448Z
UID:7325-1790929200-1790930100@busanforeignschool.org
SUMMARY:Friday Foyer!
DESCRIPTION:
URL:https://busanforeignschool.org/event/friday-foyer-24/
CATEGORIES:BFS Academic
END:VEVENT
BEGIN:VEVENT
DTSTART;TZID=Asia/Seoul:20261106T082000
DTEND;TZID=Asia/Seoul:20261106T083500
DTSTAMP:20260422T163958
CREATED:20241105T091953Z
LAST-MODIFIED:20241112T093448Z
UID:7501-1793953200-1793954100@busanforeignschool.org
SUMMARY:Friday Foyer!
DESCRIPTION:
URL:https://busanforeignschool.org/event/friday-foyer-25/
CATEGORIES:BFS Academic
END:VEVENT
END:VCALENDAR