BEGIN:VCALENDAR
VERSION:2.0
PRODID:-//Busan Foreign School - ECPv6.15.20//NONSGML v1.0//EN
CALSCALE:GREGORIAN
METHOD:PUBLISH
X-WR-CALNAME:Busan Foreign School
X-ORIGINAL-URL:https://busanforeignschool.org
X-WR-CALDESC:Events for Busan Foreign School
REFRESH-INTERVAL;VALUE=DURATION:PT1H
X-Robots-Tag:noindex
X-PUBLISHED-TTL:PT1H
BEGIN:VTIMEZONE
TZID:Asia/Seoul
BEGIN:STANDARD
TZOFFSETFROM:+0900
TZOFFSETTO:+0900
TZNAME:KST
DTSTART:20230101T000000
END:STANDARD
END:VTIMEZONE
BEGIN:VEVENT
DTSTART;TZID=Asia/Seoul:20240503T130000
DTEND;TZID=Asia/Seoul:20240503T140000
DTSTAMP:20260422T095003
CREATED:20240408T232956Z
LAST-MODIFIED:20240502T234444Z
UID:6259-1714741200-1714744800@busanforeignschool.org
SUMMARY:Early Dismissal
DESCRIPTION:
URL:https://busanforeignschool.org/event/early-dismissal/
END:VEVENT
BEGIN:VEVENT
DTSTART;VALUE=DATE:20240503
DTEND;VALUE=DATE:20240504
DTSTAMP:20260422T095003
CREATED:20240228T160006Z
LAST-MODIFIED:20240503T235945Z
UID:5271-1714694400-1714780799@busanforeignschool.org
SUMMARY:G6-9 MAP Make-up day
DESCRIPTION:
URL:https://busanforeignschool.org/event/g6-9-map-make-up-day/
CATEGORIES:BFS Academic
ATTACH;FMTTYPE=image/jpeg:https://busanforeignschool.org/wp-content/uploads/2024/02/BFS-Academic.jpg
END:VEVENT
BEGIN:VEVENT
DTSTART;VALUE=DATE:20240429
DTEND;VALUE=DATE:20240504
DTSTAMP:20260422T095003
CREATED:20240409T232943Z
LAST-MODIFIED:20240503T235945Z
UID:6273-1714348800-1714780799@busanforeignschool.org
SUMMARY:Faculty Appreciation Week
DESCRIPTION:
URL:https://busanforeignschool.org/event/faculty-appreciation-week/
END:VEVENT
BEGIN:VEVENT
DTSTART;VALUE=DATE:20240429
DTEND;VALUE=DATE:20240502
DTSTAMP:20260422T095003
CREATED:20240228T160006Z
LAST-MODIFIED:20240501T234444Z
UID:5270-1714348800-1714607999@busanforeignschool.org
SUMMARY:G6-9 MAP Testing
DESCRIPTION:
URL:https://busanforeignschool.org/event/g6-9-map-testing/
CATEGORIES:BFS Academic
ATTACH;FMTTYPE=image/jpeg:https://busanforeignschool.org/wp-content/uploads/2024/02/BFS-Academic.jpg
END:VEVENT
BEGIN:VEVENT
DTSTART;TZID=Asia/Seoul:20240427T103000
DTEND;TZID=Asia/Seoul:20240427T143000
DTSTAMP:20260422T095003
CREATED:20240228T160005Z
LAST-MODIFIED:20240426T234448Z
UID:5265-1714213800-1714228200@busanforeignschool.org
SUMMARY:Community Culture Fair
DESCRIPTION:
URL:https://busanforeignschool.org/event/family-fun-day-tentative/
CATEGORIES:BFS Academic
ATTACH;FMTTYPE=image/jpeg:https://busanforeignschool.org/wp-content/uploads/2024/02/BFS-Academic.jpg
END:VEVENT
BEGIN:VEVENT
DTSTART;TZID=Asia/Seoul:20240426T170000
DTEND;TZID=Asia/Seoul:20240426T180000
DTSTAMP:20260422T095003
CREATED:20240228T160006Z
LAST-MODIFIED:20240425T234447Z
UID:5269-1714150800-1714154400@busanforeignschool.org
SUMMARY:ES Spring Music Concert
DESCRIPTION:
URL:https://busanforeignschool.org/event/es-spring-music-concert/
CATEGORIES:BFS Academic
ATTACH;FMTTYPE=image/jpeg:https://busanforeignschool.org/wp-content/uploads/2024/02/BFS-Academic.jpg
END:VEVENT
BEGIN:VEVENT
DTSTART;VALUE=DATE:20240416
DTEND;VALUE=DATE:20240421
DTSTAMP:20260422T095003
CREATED:20240228T160005Z
LAST-MODIFIED:20240420T232943Z
UID:5267-1713225600-1713657599@busanforeignschool.org
SUMMARY:ES NWEA MAP Testing
DESCRIPTION:
URL:https://busanforeignschool.org/event/es-nwea-map-testing/
CATEGORIES:BFS Academic
ATTACH;FMTTYPE=image/jpeg:https://busanforeignschool.org/wp-content/uploads/2024/02/BFS-Academic.jpg
END:VEVENT
BEGIN:VEVENT
DTSTART;VALUE=DATE:20240416
DTEND;VALUE=DATE:20240419
DTSTAMP:20260422T095003
CREATED:20240228T174047Z
LAST-MODIFIED:20240410T234442Z
UID:5486-1713225600-1713484799@busanforeignschool.org
SUMMARY:KSIAC HS Soccer Tournament @ JEJU
DESCRIPTION:
URL:https://busanforeignschool.org/event/ksiac-hs-soccer-tournament-jeju/
CATEGORIES:BFS Athletics
ATTACH;FMTTYPE=image/jpeg:https://busanforeignschool.org/wp-content/uploads/2024/02/BFS-Athletics.jpg
END:VEVENT
BEGIN:VEVENT
DTSTART;VALUE=DATE:20240416
DTEND;VALUE=DATE:20240417
DTSTAMP:20260422T095003
CREATED:20240228T160005Z
LAST-MODIFIED:20240416T232945Z
UID:5266-1713225600-1713311999@busanforeignschool.org
SUMMARY:MSHS Course Registration
DESCRIPTION:
URL:https://busanforeignschool.org/event/mshs-2022-23-course-registration/
CATEGORIES:BFS Academic
ATTACH;FMTTYPE=image/jpeg:https://busanforeignschool.org/wp-content/uploads/2024/02/BFS-Academic.jpg
END:VEVENT
BEGIN:VEVENT
DTSTART;VALUE=DATE:20240415
DTEND;VALUE=DATE:20240416
DTSTAMP:20260422T095003
CREATED:20240228T160005Z
LAST-MODIFIED:20240411T232947Z
UID:5268-1713139200-1713225599@busanforeignschool.org
SUMMARY:G5 2024-25Course Registration
DESCRIPTION:
URL:https://busanforeignschool.org/event/g5-2024-25course-registration/
CATEGORIES:BFS Academic
ATTACH;FMTTYPE=image/jpeg:https://busanforeignschool.org/wp-content/uploads/2024/02/BFS-Academic.jpg
END:VEVENT
BEGIN:VEVENT
DTSTART;TZID=Asia/Seoul:20240412T113000
DTEND;TZID=Asia/Seoul:20240412T123000
DTSTAMP:20260422T095003
CREATED:20240228T160005Z
LAST-MODIFIED:20240228T160240Z
UID:5264-1712921400-1712925000@busanforeignschool.org
SUMMARY:PTSO Meeting
DESCRIPTION:
URL:https://busanforeignschool.org/event/ptso-meeting-2/
CATEGORIES:BFS Academic
ATTACH;FMTTYPE=image/jpeg:https://busanforeignschool.org/wp-content/uploads/2024/02/BFS-Academic.jpg
END:VEVENT
BEGIN:VEVENT
DTSTART;TZID=Asia/Seoul:20240412T110000
DTEND;TZID=Asia/Seoul:20240412T130000
DTSTAMP:20260422T095003
CREATED:20240411T232945Z
LAST-MODIFIED:20240411T232947Z
UID:6285-1712919600-1712926800@busanforeignschool.org
SUMMARY:Purple Up! Jinhae sailors in cafeteria
DESCRIPTION:
URL:https://busanforeignschool.org/event/purple-up-jinhae-sailors-in-cafeteria/
END:VEVENT
BEGIN:VEVENT
DTSTART;TZID=Asia/Seoul:20240412T084000
DTEND;TZID=Asia/Seoul:20240412T094000
DTSTAMP:20260422T095003
CREATED:20240228T160005Z
LAST-MODIFIED:20240411T232947Z
UID:5263-1712911200-1712914800@busanforeignschool.org
SUMMARY:ES SHARK SLO Assembly
DESCRIPTION:Active Communicator
URL:https://busanforeignschool.org/event/es-shark-slo-assembly-2/
CATEGORIES:BFS Academic
ATTACH;FMTTYPE=image/jpeg:https://busanforeignschool.org/wp-content/uploads/2024/02/BFS-Academic.jpg
END:VEVENT
BEGIN:VEVENT
DTSTART;VALUE=DATE:20240412
DTEND;VALUE=DATE:20240413
DTSTAMP:20260422T095003
CREATED:20240228T160005Z
LAST-MODIFIED:20240412T232945Z
UID:5262-1712880000-1712966399@busanforeignschool.org
SUMMARY:Purple Up -  Day of the Military Child 💜 (wear purple)
DESCRIPTION:
URL:https://busanforeignschool.org/event/purple-up-day-of-the-military-child-%f0%9f%92%9c-wear-purple/
CATEGORIES:BFS Academic
END:VEVENT
BEGIN:VEVENT
DTSTART;TZID=Asia/Seoul:20240411T121000
DTEND;TZID=Asia/Seoul:20240411T131000
DTSTAMP:20260422T095003
CREATED:20240408T232956Z
LAST-MODIFIED:20240410T232946Z
UID:6257-1712837400-1712841000@busanforeignschool.org
SUMMARY:AP Course Presentation
DESCRIPTION:AP course presentation in the Auditorium\, with a recording of the session shared with parents presented by Mr. Glenn Saunders
URL:https://busanforeignschool.org/event/ap-course-presentation/
END:VEVENT
BEGIN:VEVENT
DTSTART;TZID=Asia/Seoul:20240410T112500
DTEND;TZID=Asia/Seoul:20240410T122500
DTSTAMP:20260422T095003
CREATED:20240228T160005Z
LAST-MODIFIED:20240409T232945Z
UID:5261-1712748300-1712751900@busanforeignschool.org
SUMMARY:Advisory Period 4 Year Planning
DESCRIPTION:In auditorium
URL:https://busanforeignschool.org/event/ap-course-qa-hs-students/
LOCATION:BFS-B1-Auditorium (100)
CATEGORIES:BFS Academic
ATTACH;FMTTYPE=image/jpeg:https://busanforeignschool.org/wp-content/uploads/2024/02/BFS-Academic.jpg
END:VEVENT
BEGIN:VEVENT
DTSTART;TZID=Asia/Seoul:20240410T110000
DTEND;TZID=Asia/Seoul:20240410T113000
DTSTAMP:20260422T095003
CREATED:20240228T160005Z
LAST-MODIFIED:20240409T232945Z
UID:5260-1712746800-1712748600@busanforeignschool.org
SUMMARY:Transition to K5 Webinar
DESCRIPTION:Join with Google Meet: https://meet.google.com/uyk-fiim-hsf\nOr dial: (US) +1 929-399-7663 PIN: 836861775#\nLearn more about Meet at: https://support.google.com/a/users/answer/9282720
URL:https://busanforeignschool.org/event/transition-to-k5-webinar/
CATEGORIES:BFS Academic
ATTACH;FMTTYPE=image/jpeg:https://busanforeignschool.org/wp-content/uploads/2024/02/BFS-Academic.jpg
END:VEVENT
BEGIN:VEVENT
DTSTART;VALUE=DATE:20240410
DTEND;VALUE=DATE:20240411
DTSTAMP:20260422T095003
CREATED:20240228T160005Z
LAST-MODIFIED:20240410T232946Z
UID:5258-1712707200-1712793599@busanforeignschool.org
SUMMARY:Election Day (School Day)
DESCRIPTION:
URL:https://busanforeignschool.org/event/election-day-school-day/
CATEGORIES:BFS Academic
ATTACH;FMTTYPE=image/jpeg:https://busanforeignschool.org/wp-content/uploads/2024/02/BFS-Academic.jpg
END:VEVENT
BEGIN:VEVENT
DTSTART;VALUE=DATE:20240410
DTEND;VALUE=DATE:20240411
DTSTAMP:20260422T095003
CREATED:20240228T160005Z
LAST-MODIFIED:20240228T160240Z
UID:5259-1712707200-1712793599@busanforeignschool.org
SUMMARY:Body Positivity Advisories
DESCRIPTION:
URL:https://busanforeignschool.org/event/body-positivity-advisories-2/
CATEGORIES:BFS Academic
ATTACH;FMTTYPE=image/jpeg:https://busanforeignschool.org/wp-content/uploads/2024/02/BFS-Academic.jpg
END:VEVENT
BEGIN:VEVENT
DTSTART;TZID=Asia/Seoul:20240408T161500
DTEND;TZID=Asia/Seoul:20240408T171500
DTSTAMP:20260422T095003
CREATED:20240228T174047Z
LAST-MODIFIED:20240228T174048Z
UID:5485-1712592900-1712596500@busanforeignschool.org
SUMMARY:HS 7s Friendly vs ISB @ ISB
DESCRIPTION:
URL:https://busanforeignschool.org/event/hs-7s-friendly-vs-isb-isb/
CATEGORIES:BFS Athletics
ATTACH;FMTTYPE=image/jpeg:https://busanforeignschool.org/wp-content/uploads/2024/02/BFS-Athletics.jpg
END:VEVENT
BEGIN:VEVENT
DTSTART;VALUE=DATE:20240408
DTEND;VALUE=DATE:20240409
DTSTAMP:20260422T095003
CREATED:20240228T160005Z
LAST-MODIFIED:20240228T160240Z
UID:5257-1712534400-1712620799@busanforeignschool.org
SUMMARY:HS Course Fair
DESCRIPTION:During lunch break
URL:https://busanforeignschool.org/event/hs-course-fair/
CATEGORIES:BFS Academic
ATTACH;FMTTYPE=image/jpeg:https://busanforeignschool.org/wp-content/uploads/2024/02/BFS-Academic.jpg
END:VEVENT
BEGIN:VEVENT
DTSTART;VALUE=DATE:20240406
DTEND;VALUE=DATE:20240407
DTSTAMP:20260422T095003
CREATED:20240228T160005Z
LAST-MODIFIED:20240228T160240Z
UID:5255-1712361600-1712447999@busanforeignschool.org
SUMMARY:ES KIMEA Choral Festival (Gym)
DESCRIPTION:
URL:https://busanforeignschool.org/event/es-kimea-choral-festival-gym/
CATEGORIES:BFS Academic
ATTACH;FMTTYPE=image/jpeg:https://busanforeignschool.org/wp-content/uploads/2024/02/BFS-Academic.jpg
END:VEVENT
BEGIN:VEVENT
DTSTART;TZID=Asia/Seoul:20240405T154000
DTEND;TZID=Asia/Seoul:20240405T164000
DTSTAMP:20260422T095003
CREATED:20240228T160005Z
LAST-MODIFIED:20240228T160240Z
UID:5254-1712331600-1712335200@busanforeignschool.org
SUMMARY:G5 Transition to MS Parent Meeting
DESCRIPTION:
URL:https://busanforeignschool.org/event/g5-transition-to-ms-parent-meeting/
CATEGORIES:BFS Academic
ATTACH;FMTTYPE=image/jpeg:https://busanforeignschool.org/wp-content/uploads/2024/02/BFS-Academic.jpg
END:VEVENT
BEGIN:VEVENT
DTSTART;VALUE=DATE:20240405
DTEND;VALUE=DATE:20240406
DTSTAMP:20260422T095003
CREATED:20240228T160005Z
LAST-MODIFIED:20240228T160253Z
UID:5256-1712275200-1712361599@busanforeignschool.org
SUMMARY:Q3 Report Cards Sent Home
DESCRIPTION:
URL:https://busanforeignschool.org/event/q3-report-cards-sent-home/
CATEGORIES:BFS Academic
ATTACH;FMTTYPE=image/jpeg:https://busanforeignschool.org/wp-content/uploads/2024/02/BFS-Academic.jpg
END:VEVENT
BEGIN:VEVENT
DTSTART;TZID=Asia/Seoul:20240404T163000
DTEND;TZID=Asia/Seoul:20240404T173000
DTSTAMP:20260422T095003
CREATED:20240228T160005Z
LAST-MODIFIED:20240228T160253Z
UID:5252-1712248200-1712251800@busanforeignschool.org
SUMMARY:G8 Transition to HS Parent Meeting
DESCRIPTION:
URL:https://busanforeignschool.org/event/g8-transition-to-hs-parent-meeting/
CATEGORIES:BFS Academic
ATTACH;FMTTYPE=image/jpeg:https://busanforeignschool.org/wp-content/uploads/2024/02/BFS-Academic.jpg
END:VEVENT
BEGIN:VEVENT
DTSTART;VALUE=DATE:20240401
DTEND;VALUE=DATE:20240402
DTSTAMP:20260422T095003
CREATED:20240228T174047Z
LAST-MODIFIED:20240228T174048Z
UID:5484-1711929600-1712015999@busanforeignschool.org
SUMMARY:ES Basketball begins
DESCRIPTION:
URL:https://busanforeignschool.org/event/es-basketball-begins/
CATEGORIES:BFS Athletics
ATTACH;FMTTYPE=image/jpeg:https://busanforeignschool.org/wp-content/uploads/2024/02/BFS-Athletics.jpg
END:VEVENT
BEGIN:VEVENT
DTSTART;VALUE=DATE:20240401
DTEND;VALUE=DATE:20240402
DTSTAMP:20260422T095003
CREATED:20240228T160005Z
LAST-MODIFIED:20240228T160253Z
UID:5250-1711929600-1712015999@busanforeignschool.org
SUMMARY:Quarter 4 Begins
DESCRIPTION:
URL:https://busanforeignschool.org/event/quarter-4-begins/
CATEGORIES:BFS Academic
ATTACH;FMTTYPE=image/jpeg:https://busanforeignschool.org/wp-content/uploads/2024/02/BFS-Academic.jpg
END:VEVENT
BEGIN:VEVENT
DTSTART;VALUE=DATE:20240401
DTEND;VALUE=DATE:20240402
DTSTAMP:20260422T095003
CREATED:20240228T160005Z
LAST-MODIFIED:20240228T160253Z
UID:5251-1711929600-1712015999@busanforeignschool.org
SUMMARY:School Resumes
DESCRIPTION:
URL:https://busanforeignschool.org/event/school-resumes/
CATEGORIES:BFS Academic
ATTACH;FMTTYPE=image/jpeg:https://busanforeignschool.org/wp-content/uploads/2024/02/BFS-Academic.jpg
END:VEVENT
BEGIN:VEVENT
DTSTART;VALUE=DATE:20240325
DTEND;VALUE=DATE:20240330
DTSTAMP:20260422T095003
CREATED:20240228T160005Z
LAST-MODIFIED:20240228T160253Z
UID:5249-1711324800-1711756799@busanforeignschool.org
SUMMARY:Spring Break
DESCRIPTION:
URL:https://busanforeignschool.org/event/spring-break/
CATEGORIES:BFS Academic
ATTACH;FMTTYPE=image/jpeg:https://busanforeignschool.org/wp-content/uploads/2024/02/BFS-Academic.jpg
END:VEVENT
BEGIN:VEVENT
DTSTART;TZID=Asia/Seoul:20240322T180000
DTEND;TZID=Asia/Seoul:20240322T190000
DTSTAMP:20260422T095003
CREATED:20240228T160005Z
LAST-MODIFIED:20240228T160253Z
UID:5248-1711130400-1711134000@busanforeignschool.org
SUMMARY:MSHS Spring Concert
DESCRIPTION:
URL:https://busanforeignschool.org/event/mshs-spring-concert/
CATEGORIES:BFS Academic
ATTACH;FMTTYPE=image/jpeg:https://busanforeignschool.org/wp-content/uploads/2024/02/BFS-Academic.jpg
END:VEVENT
END:VCALENDAR