BEGIN:VCALENDAR
VERSION:2.0
PRODID:-//Busan Foreign School - ECPv6.15.20//NONSGML v1.0//EN
CALSCALE:GREGORIAN
METHOD:PUBLISH
X-WR-CALNAME:Busan Foreign School
X-ORIGINAL-URL:https://busanforeignschool.org
X-WR-CALDESC:Events for Busan Foreign School
REFRESH-INTERVAL;VALUE=DURATION:PT1H
X-Robots-Tag:noindex
X-PUBLISHED-TTL:PT1H
BEGIN:VTIMEZONE
TZID:Asia/Seoul
BEGIN:STANDARD
TZOFFSETFROM:+0900
TZOFFSETTO:+0900
TZNAME:KST
DTSTART:20250101T000000
END:STANDARD
END:VTIMEZONE
BEGIN:VEVENT
DTSTART;TZID=Asia/Seoul:20260409T170000
DTEND;TZID=Asia/Seoul:20260409T180000
DTSTAMP:20260422T060759
CREATED:20260123T204509Z
LAST-MODIFIED:20260408T124637Z
UID:9666-1775754000-1775757600@busanforeignschool.org
SUMMARY:G8 Parent meeting - Transition to HS
DESCRIPTION:
URL:https://busanforeignschool.org/event/g8-parent-meeting-transition-to-hs/
CATEGORIES:BFS Academic
END:VEVENT
BEGIN:VEVENT
DTSTART;VALUE=DATE:20260410
DTEND;VALUE=DATE:20260411
DTSTAMP:20260422T060759
CREATED:20260123T204509Z
LAST-MODIFIED:20260410T131545Z
UID:9668-1775779200-1775865599@busanforeignschool.org
SUMMARY:Purple Up Day - wear 💜 to support US military students
DESCRIPTION:
URL:https://busanforeignschool.org/event/purple-up-day-wear-%f0%9f%92%9c-to-support-us-military-students/
CATEGORIES:BFS Academic
END:VEVENT
BEGIN:VEVENT
DTSTART;VALUE=DATE:20260410
DTEND;VALUE=DATE:20260411
DTSTAMP:20260422T060759
CREATED:20260123T204509Z
LAST-MODIFIED:20260410T131545Z
UID:9669-1775779200-1775865599@busanforeignschool.org
SUMMARY:MS BBall Battle of Busan vs ISB
DESCRIPTION:
URL:https://busanforeignschool.org/event/ms-b-ball-vs-isb/
CATEGORIES:BFS Academic
END:VEVENT
BEGIN:VEVENT
DTSTART;TZID=Asia/Seoul:20260410T110000
DTEND;TZID=Asia/Seoul:20260410T120000
DTSTAMP:20260422T060759
CREATED:20251211T123007Z
LAST-MODIFIED:20260409T130053Z
UID:9414-1775818800-1775822400@busanforeignschool.org
SUMMARY:PTSO Meeting
DESCRIPTION:
URL:https://busanforeignschool.org/event/ptso-meeting-35/
CATEGORIES:BFS Academic
END:VEVENT
BEGIN:VEVENT
DTSTART;TZID=Asia/Seoul:20260410T113000
DTEND;TZID=Asia/Seoul:20260410T123000
DTSTAMP:20260422T060759
CREATED:20240410T232946Z
LAST-MODIFIED:20240416T232948Z
UID:6282-1775820600-1775824200@busanforeignschool.org
SUMMARY:PTSO Meeting
DESCRIPTION:
URL:https://busanforeignschool.org/event/ptso-meeting-26/
END:VEVENT
BEGIN:VEVENT
DTSTART;TZID=Asia/Seoul:20260410T170000
DTEND;TZID=Asia/Seoul:20260410T180000
DTSTAMP:20260422T060759
CREATED:20260123T204509Z
LAST-MODIFIED:20260409T130053Z
UID:9667-1775840400-1775844000@busanforeignschool.org
SUMMARY:G5 Parent Meeting - Transition to MS
DESCRIPTION:
URL:https://busanforeignschool.org/event/g5-parent-meeting-transition-to-ms/
CATEGORIES:BFS Academic
END:VEVENT
BEGIN:VEVENT
DTSTART;VALUE=DATE:20260413
DTEND;VALUE=DATE:20260414
DTSTAMP:20260422T060759
CREATED:20260123T204509Z
LAST-MODIFIED:20260413T133059Z
UID:9670-1776038400-1776124799@busanforeignschool.org
SUMMARY:HS Soccer Battle of Busan vs ISB
DESCRIPTION:
URL:https://busanforeignschool.org/event/hs-soccer-vs-isb-2/
CATEGORIES:BFS Academic
END:VEVENT
BEGIN:VEVENT
DTSTART;TZID=Asia/Seoul:20260414T114500
DTEND;TZID=Asia/Seoul:20260414T131500
DTSTAMP:20260422T060759
CREATED:20260123T204509Z
LAST-MODIFIED:20260413T133059Z
UID:9665-1776167100-1776172500@busanforeignschool.org
SUMMARY:HS Course Fair - Auditorium
DESCRIPTION:
URL:https://busanforeignschool.org/event/hs-course-fair-auditorium/
CATEGORIES:BFS Academic
END:VEVENT
BEGIN:VEVENT
DTSTART;VALUE=DATE:20260417
DTEND;VALUE=DATE:20260418
DTSTAMP:20260422T060759
CREATED:20260123T204509Z
LAST-MODIFIED:20260417T140048Z
UID:9672-1776384000-1776470399@busanforeignschool.org
SUMMARY:Teacher Professional Development Day - No school for students
DESCRIPTION:
URL:https://busanforeignschool.org/event/teacher-professional-development-day-no-school-for-students/
CATEGORIES:BFS Academic
END:VEVENT
BEGIN:VEVENT
DTSTART;VALUE=DATE:20260418
DTEND;VALUE=DATE:20260419
DTSTAMP:20260422T060759
CREATED:20250822T055756Z
LAST-MODIFIED:20260418T141551Z
UID:8725-1776470400-1776556799@busanforeignschool.org
SUMMARY:SKAIS ES Basketball Divisional @ DIS
DESCRIPTION:
URL:https://busanforeignschool.org/event/skais-es-basketball-divisional-dis/
CATEGORIES:BFS Academic
END:VEVENT
BEGIN:VEVENT
DTSTART;VALUE=DATE:20260418
DTEND;VALUE=DATE:20260419
DTSTAMP:20260422T060759
CREATED:20250822T071255Z
LAST-MODIFIED:20260406T061807Z
UID:8776-1776470400-1776556799@busanforeignschool.org
SUMMARY:SKAIS ES Basketball Divisional @ DIS
DESCRIPTION:
URL:https://busanforeignschool.org/event/skais-es-basketball-divisional-dis-2/
CATEGORIES:BFS Athletics
END:VEVENT
BEGIN:VEVENT
DTSTART;VALUE=DATE:20260418
DTEND;VALUE=DATE:20260419
DTSTAMP:20260422T060759
CREATED:20260123T204509Z
LAST-MODIFIED:20260415T133310Z
UID:9671-1776470400-1776556799@busanforeignschool.org
SUMMARY:KIMEA Solos
DESCRIPTION:
URL:https://busanforeignschool.org/event/kimea-solos/
CATEGORIES:BFS Academic
END:VEVENT
BEGIN:VEVENT
DTSTART;VALUE=DATE:20260420
DTEND;VALUE=DATE:20260421
DTSTAMP:20260422T060759
CREATED:20260123T204509Z
LAST-MODIFIED:20260420T141808Z
UID:9673-1776643200-1776729599@busanforeignschool.org
SUMMARY:MS/HS Course Registration Opens
DESCRIPTION:
URL:https://busanforeignschool.org/event/ms-hs-course-registration-opens/
CATEGORIES:BFS Academic
END:VEVENT
BEGIN:VEVENT
DTSTART;VALUE=DATE:20260421
DTEND;VALUE=DATE:20260425
DTSTAMP:20260422T060759
CREATED:20260226T220011Z
LAST-MODIFIED:20260421T143310Z
UID:9866-1776729600-1777075199@busanforeignschool.org
SUMMARY:Spring MAP Testing G2-5
DESCRIPTION:
URL:https://busanforeignschool.org/event/spring-map-testing-g2-5/
CATEGORIES:BFS Academic
END:VEVENT
BEGIN:VEVENT
DTSTART;VALUE=DATE:20260423
DTEND;VALUE=DATE:20260425
DTSTAMP:20260422T060759
CREATED:20260407T213309Z
LAST-MODIFIED:20260421T143310Z
UID:10006-1776902400-1777075199@busanforeignschool.org
SUMMARY:HS KISAC Soccer Girls
DESCRIPTION:
URL:https://busanforeignschool.org/event/hs-kisac-soccer-girls/
CATEGORIES:BFS Academic
END:VEVENT
BEGIN:VEVENT
DTSTART;TZID=Asia/Seoul:20260425T110000
DTEND;TZID=Asia/Seoul:20260425T140000
DTSTAMP:20260422T060759
CREATED:20251203T114505Z
LAST-MODIFIED:20260421T143310Z
UID:9335-1777114800-1777125600@busanforeignschool.org
SUMMARY:BFS Spring Fair
DESCRIPTION:
URL:https://busanforeignschool.org/event/community-culture-fair/
CATEGORIES:BFS Academic
END:VEVENT
BEGIN:VEVENT
DTSTART;VALUE=DATE:20260427
DTEND;VALUE=DATE:20260428
DTSTAMP:20260422T060759
CREATED:20260123T204509Z
LAST-MODIFIED:20260421T143311Z
UID:9674-1777248000-1777334399@busanforeignschool.org
SUMMARY:G6-9 MAP testing
DESCRIPTION:
URL:https://busanforeignschool.org/event/g6-9-map-testing-2/
CATEGORIES:BFS Academic
END:VEVENT
BEGIN:VEVENT
DTSTART;VALUE=DATE:20260427
DTEND;VALUE=DATE:20260428
DTSTAMP:20260422T060759
CREATED:20260123T204509Z
LAST-MODIFIED:20260421T143311Z
UID:9675-1777248000-1777334399@busanforeignschool.org
SUMMARY:MS/HS Course Registration Closes
DESCRIPTION:
URL:https://busanforeignschool.org/event/ms-hs-course-registration-closes/
CATEGORIES:BFS Academic
END:VEVENT
BEGIN:VEVENT
DTSTART;TZID=Asia/Seoul:20260427T100000
DTEND;TZID=Asia/Seoul:20260427T110000
DTSTAMP:20260422T060759
CREATED:20260225T220013Z
LAST-MODIFIED:20260421T143310Z
UID:9861-1777284000-1777287600@busanforeignschool.org
SUMMARY:AEO College Fair (Auditorium)
DESCRIPTION:
URL:https://busanforeignschool.org/event/aeo-college-fair-auditorium/
CATEGORIES:BFS Academic
END:VEVENT
BEGIN:VEVENT
DTSTART;VALUE=DATE:20260429
DTEND;VALUE=DATE:20260430
DTSTAMP:20260422T060759
CREATED:20260123T204509Z
LAST-MODIFIED:20260421T143311Z
UID:9676-1777420800-1777507199@busanforeignschool.org
SUMMARY:G6-9 MAP Testing
DESCRIPTION:
URL:https://busanforeignschool.org/event/g6-9-map-testing-3/
CATEGORIES:BFS Academic
END:VEVENT
BEGIN:VEVENT
DTSTART;VALUE=DATE:20260430
DTEND;VALUE=DATE:20260501
DTSTAMP:20260422T060759
CREATED:20260123T204509Z
LAST-MODIFIED:20260421T143311Z
UID:9677-1777507200-1777593599@busanforeignschool.org
SUMMARY:BoB MS Basketball @ISB and BFS
DESCRIPTION:
URL:https://busanforeignschool.org/event/bob-ms-basketball-isb-and-bfs/
CATEGORIES:BFS Academic
END:VEVENT
BEGIN:VEVENT
DTSTART;VALUE=DATE:20260430
DTEND;VALUE=DATE:20260501
DTSTAMP:20260422T060759
CREATED:20260123T204509Z
LAST-MODIFIED:20260421T143311Z
UID:9678-1777507200-1777593599@busanforeignschool.org
SUMMARY:G6-9 MAP Make-up
DESCRIPTION:
URL:https://busanforeignschool.org/event/g6-9-map-make-up/
CATEGORIES:BFS Academic
END:VEVENT
BEGIN:VEVENT
DTSTART;VALUE=DATE:20260501
DTEND;VALUE=DATE:20260502
DTSTAMP:20260422T060759
CREATED:20260410T130323Z
LAST-MODIFIED:20260421T143311Z
UID:10042-1777593600-1777679999@busanforeignschool.org
SUMMARY:Labor Day (No School)
DESCRIPTION:
URL:https://busanforeignschool.org/event/labor-day-no-school/
CATEGORIES:BFS Academic
END:VEVENT
BEGIN:VEVENT
DTSTART;TZID=Asia/Seoul:20260501T082000
DTEND;TZID=Asia/Seoul:20260501T083500
DTSTAMP:20260422T060759
CREATED:20241004T070450Z
LAST-MODIFIED:20241112T093448Z
UID:7320-1777623600-1777624500@busanforeignschool.org
SUMMARY:Friday Foyer!
DESCRIPTION:
URL:https://busanforeignschool.org/event/friday-foyer-19/
CATEGORIES:BFS Academic
END:VEVENT
BEGIN:VEVENT
DTSTART;VALUE=DATE:20260504
DTEND;VALUE=DATE:20260505
DTSTAMP:20260422T060759
CREATED:20260420T141809Z
LAST-MODIFIED:20260421T143311Z
UID:10087-1777852800-1777939199@busanforeignschool.org
SUMMARY:Teacher Appreciation Day (No School)
DESCRIPTION:
URL:https://busanforeignschool.org/event/teacher-appreciation-day-no-school/
CATEGORIES:BFS Academic
END:VEVENT
BEGIN:VEVENT
DTSTART;VALUE=DATE:20260504
DTEND;VALUE=DATE:20260509
DTSTAMP:20260422T060759
CREATED:20260123T204509Z
LAST-MODIFIED:20260421T143311Z
UID:9680-1777852800-1778284799@busanforeignschool.org
SUMMARY:AP Testing G10-12
DESCRIPTION:
URL:https://busanforeignschool.org/event/ap-testing-g10-12/
CATEGORIES:BFS Academic
END:VEVENT
BEGIN:VEVENT
DTSTART;VALUE=DATE:20260505
DTEND;VALUE=DATE:20260506
DTSTAMP:20260422T060759
CREATED:20260420T141809Z
LAST-MODIFIED:20260421T143311Z
UID:10086-1777939200-1778025599@busanforeignschool.org
SUMMARY:Children's Day (No School)
DESCRIPTION:
URL:https://busanforeignschool.org/event/childrens-day-no-school-3/
CATEGORIES:BFS Academic
END:VEVENT
BEGIN:VEVENT
DTSTART;VALUE=DATE:20260507
DTEND;VALUE=DATE:20260508
DTSTAMP:20260422T060759
CREATED:20260123T204509Z
LAST-MODIFIED:20260419T141816Z
UID:9679-1778112000-1778198399@busanforeignschool.org
SUMMARY:Elementary Spring Concert @ 5pm
DESCRIPTION:
URL:https://busanforeignschool.org/event/elementary-spring-concert-5pm/
CATEGORIES:BFS Academic
END:VEVENT
BEGIN:VEVENT
DTSTART;VALUE=DATE:20260507
DTEND;VALUE=DATE:20260508
DTSTAMP:20260422T060759
CREATED:20260420T141809Z
LAST-MODIFIED:20260421T143311Z
UID:10088-1778112000-1778198399@busanforeignschool.org
SUMMARY:Elementary Spring Concert (5pm) & Art Showcase (4pm)
DESCRIPTION:
URL:https://busanforeignschool.org/event/elementary-spring-concert-5pm-art-showcase-4pm/
CATEGORIES:BFS Academic
END:VEVENT
BEGIN:VEVENT
DTSTART;VALUE=DATE:20260508
DTEND;VALUE=DATE:20260509
DTSTAMP:20260422T060759
CREATED:20250822T055756Z
LAST-MODIFIED:20260421T143311Z
UID:8726-1778198400-1778284799@busanforeignschool.org
SUMMARY:SKAIS ES Basketball Final @ DIS
DESCRIPTION:
URL:https://busanforeignschool.org/event/skais-es-basketball-final-dis/
CATEGORIES:BFS Academic
END:VEVENT
END:VCALENDAR