BEGIN:VCALENDAR
VERSION:2.0
PRODID:-//Busan Foreign School - ECPv6.15.20//NONSGML v1.0//EN
CALSCALE:GREGORIAN
METHOD:PUBLISH
X-WR-CALNAME:Busan Foreign School
X-ORIGINAL-URL:https://busanforeignschool.org
X-WR-CALDESC:Events for Busan Foreign School
REFRESH-INTERVAL;VALUE=DURATION:PT1H
X-Robots-Tag:noindex
X-PUBLISHED-TTL:PT1H
BEGIN:VTIMEZONE
TZID:Asia/Seoul
BEGIN:STANDARD
TZOFFSETFROM:+0900
TZOFFSETTO:+0900
TZNAME:KST
DTSTART:20230101T000000
END:STANDARD
END:VTIMEZONE
BEGIN:VEVENT
DTSTART;VALUE=DATE:20241128
DTEND;VALUE=DATE:20241201
DTSTAMP:20260425T123435
CREATED:20241028T064947Z
LAST-MODIFIED:20241130T083446Z
UID:7474-1732752000-1733011199@busanforeignschool.org
SUMMARY:Jeju Invitational Varsity Basketball Tournament
DESCRIPTION:
URL:https://busanforeignschool.org/event/jeju-invitational-varsity-basketball-tournament/
CATEGORIES:BFS Athletics
END:VEVENT
BEGIN:VEVENT
DTSTART;TZID=Asia/Seoul:20241123T090000
DTEND;TZID=Asia/Seoul:20241123T170000
DTSTAMP:20260425T123435
CREATED:20240812T192948Z
LAST-MODIFIED:20240909T011759Z
UID:6797-1732352400-1732381200@busanforeignschool.org
SUMMARY:SKAIS ES STEM Fair @ GIFS
DESCRIPTION:
URL:https://busanforeignschool.org/event/skais-es-stem-fair-gifs/
CATEGORIES:BFS Athletics
END:VEVENT
BEGIN:VEVENT
DTSTART;VALUE=DATE:20241123
DTEND;VALUE=DATE:20241124
DTSTAMP:20260425T123435
CREATED:20240910T051453Z
LAST-MODIFIED:20241123T080445Z
UID:7165-1732320000-1732406399@busanforeignschool.org
SUMMARY:SKAIS ES STEM Fair @ DIS
DESCRIPTION:
URL:https://busanforeignschool.org/event/skais-es-stem-fair-dis/
CATEGORIES:BFS Athletics
END:VEVENT
BEGIN:VEVENT
DTSTART;VALUE=DATE:20241123
DTEND;VALUE=DATE:20241124
DTSTAMP:20260425T123435
CREATED:20240910T051453Z
LAST-MODIFIED:20241123T080445Z
UID:7166-1732320000-1732406399@busanforeignschool.org
SUMMARY:SKAIS MS/HS STEM Fair @ DIS
DESCRIPTION:
URL:https://busanforeignschool.org/event/skais-ms-hs-stem-fair-dis/
CATEGORIES:BFS Athletics
END:VEVENT
BEGIN:VEVENT
DTSTART;TZID=Asia/Seoul:20241113T090000
DTEND;TZID=Asia/Seoul:20241113T170000
DTSTAMP:20260425T123435
CREATED:20240812T192948Z
LAST-MODIFIED:20241113T073448Z
UID:6796-1731488400-1731517200@busanforeignschool.org
SUMMARY:SKAIS ES Soccer @ ISB
DESCRIPTION:
URL:https://busanforeignschool.org/event/skais-es-soccer-gifs/
CATEGORIES:BFS Athletics
END:VEVENT
BEGIN:VEVENT
DTSTART;TZID=Asia/Seoul:20241112T090000
DTEND;TZID=Asia/Seoul:20241112T170000
DTSTAMP:20260425T123435
CREATED:20240812T192948Z
LAST-MODIFIED:20241112T073446Z
UID:6795-1731402000-1731430800@busanforeignschool.org
SUMMARY:SKAIS MS Soccer @ ISB
DESCRIPTION:
URL:https://busanforeignschool.org/event/skais-ms-soccer-isb/
CATEGORIES:BFS Athletics
END:VEVENT
BEGIN:VEVENT
DTSTART;TZID=Asia/Seoul:20241105T090000
DTEND;TZID=Asia/Seoul:20241105T150000
DTSTAMP:20260425T123435
CREATED:20240514T055944Z
LAST-MODIFIED:20241104T070447Z
UID:6445-1730797200-1730818800@busanforeignschool.org
SUMMARY:SKAIS Cross Country Meet 2 @DIS
DESCRIPTION:
URL:https://busanforeignschool.org/event/skais-cross-country-meet-1-dis/
CATEGORIES:BFS Athletics
END:VEVENT
BEGIN:VEVENT
DTSTART;VALUE=DATE:20241025
DTEND;VALUE=DATE:20241027
DTSTAMP:20260425T123435
CREATED:20240906T201444Z
LAST-MODIFIED:20241026T064945Z
UID:7116-1729814400-1729987199@busanforeignschool.org
SUMMARY:KISAC Cross Country @ DIS
DESCRIPTION:MSHS only\, not ES
URL:https://busanforeignschool.org/event/kisac-cross-country-dis/
CATEGORIES:BFS Athletics
END:VEVENT
BEGIN:VEVENT
DTSTART;VALUE=DATE:20241024
DTEND;VALUE=DATE:20241027
DTSTAMP:20260425T123435
CREATED:20240812T192948Z
LAST-MODIFIED:20241026T064945Z
UID:6793-1729728000-1729987199@busanforeignschool.org
SUMMARY:KISAC HS Volleyball (Jeju)
DESCRIPTION:
URL:https://busanforeignschool.org/event/kisac-hs-volleyball/
CATEGORIES:BFS Athletics
END:VEVENT
BEGIN:VEVENT
DTSTART;TZID=Asia/Seoul:20241022T161500
DTEND;TZID=Asia/Seoul:20241022T174500
DTSTAMP:20260425T123435
CREATED:20240812T192948Z
LAST-MODIFIED:20241022T063447Z
UID:6792-1729613700-1729619100@busanforeignschool.org
SUMMARY:MS Soccer @ ISB
DESCRIPTION:
URL:https://busanforeignschool.org/event/ms-soccer-isb-2/
CATEGORIES:BFS Athletics
END:VEVENT
BEGIN:VEVENT
DTSTART;TZID=Asia/Seoul:20241017T090000
DTEND;TZID=Asia/Seoul:20241017T180000
DTSTAMP:20260425T123435
CREATED:20240514T055944Z
LAST-MODIFIED:20241017T063446Z
UID:6444-1729155600-1729188000@busanforeignschool.org
SUMMARY:SKAIS HS Volleyball (Boys @ISB\, Girls @BFS)
DESCRIPTION:
URL:https://busanforeignschool.org/event/skais-hs-volleyball-boys-isb-girls-bfs/
CATEGORIES:BFS Athletics
END:VEVENT
BEGIN:VEVENT
DTSTART;VALUE=DATE:20241017
DTEND;VALUE=DATE:20241020
DTSTAMP:20260425T123435
CREATED:20240812T192948Z
LAST-MODIFIED:20240812T192948Z
UID:6791-1729123200-1729382399@busanforeignschool.org
SUMMARY:KISAC MS Soccer @ Jeju
DESCRIPTION:
URL:https://busanforeignschool.org/event/kisac-ms-soccer-jeju-2/
CATEGORIES:BFS Athletics
END:VEVENT
BEGIN:VEVENT
DTSTART;VALUE=DATE:20241017
DTEND;VALUE=DATE:20241020
DTSTAMP:20260425T123435
CREATED:20240812T192948Z
LAST-MODIFIED:20241019T063450Z
UID:6790-1729123200-1729382399@busanforeignschool.org
SUMMARY:KISAC MS Soccer @ Jeju
DESCRIPTION:
URL:https://busanforeignschool.org/event/kisac-ms-soccer-jeju/
CATEGORIES:BFS Athletics
END:VEVENT
BEGIN:VEVENT
DTSTART;TZID=Asia/Seoul:20241014T161500
DTEND;TZID=Asia/Seoul:20241014T174500
DTSTAMP:20260425T123435
CREATED:20240812T192948Z
LAST-MODIFIED:20240812T192948Z
UID:6789-1728922500-1728927900@busanforeignschool.org
SUMMARY:HS Varsity Volleyball vs ISB
DESCRIPTION:
URL:https://busanforeignschool.org/event/hs-varsity-volleyball-vs-isb-2/
CATEGORIES:BFS Athletics
END:VEVENT
BEGIN:VEVENT
DTSTART;TZID=Asia/Seoul:20241014T161500
DTEND;TZID=Asia/Seoul:20241014T174500
DTSTAMP:20260425T123435
CREATED:20240812T192948Z
LAST-MODIFIED:20241014T063446Z
UID:6788-1728922500-1728927900@busanforeignschool.org
SUMMARY:HS Varsity Volleyball vs ISB
DESCRIPTION:
URL:https://busanforeignschool.org/event/hs-varsity-volleyball-vs-isb/
CATEGORIES:BFS Athletics
END:VEVENT
BEGIN:VEVENT
DTSTART;TZID=Asia/Seoul:20241012T090000
DTEND;TZID=Asia/Seoul:20241012T170000
DTSTAMP:20260425T123435
CREATED:20240823T195946Z
LAST-MODIFIED:20240826T195949Z
UID:6925-1728723600-1728752400@busanforeignschool.org
SUMMARY:Varsity Volleyball @ BFS
DESCRIPTION:
URL:https://busanforeignschool.org/event/varsity-volleyball-bfs-2/
CATEGORIES:BFS Athletics
END:VEVENT
BEGIN:VEVENT
DTSTART;TZID=Asia/Seoul:20241011T150000
DTEND;TZID=Asia/Seoul:20241012T190000
DTSTAMP:20260425T123435
CREATED:20240823T195946Z
LAST-MODIFIED:20241012T061948Z
UID:6924-1728658800-1728759600@busanforeignschool.org
SUMMARY:Busan Invitational Varsity G&B Volleyball @ BFS
DESCRIPTION:
URL:https://busanforeignschool.org/event/varsity-volleyball-bfs/
CATEGORIES:BFS Athletics
END:VEVENT
BEGIN:VEVENT
DTSTART;TZID=Asia/Seoul:20241005T090000
DTEND;TZID=Asia/Seoul:20241005T150000
DTSTAMP:20260425T123435
CREATED:20240514T055944Z
LAST-MODIFIED:20241004T060449Z
UID:6443-1728118800-1728140400@busanforeignschool.org
SUMMARY:SKAIS Cross Country Meet 1 @ISB
DESCRIPTION:
URL:https://busanforeignschool.org/event/skais-cross-country-meet-1-isb/
CATEGORIES:BFS Athletics
END:VEVENT
BEGIN:VEVENT
DTSTART;TZID=Asia/Seoul:20240928T090000
DTEND;TZID=Asia/Seoul:20240928T170000
DTSTAMP:20260425T123435
CREATED:20240812T192947Z
LAST-MODIFIED:20240822T194450Z
UID:6786-1727514000-1727542800@busanforeignschool.org
SUMMARY:HS Varsity Volleyball @ BFS
DESCRIPTION:
URL:https://busanforeignschool.org/event/hs-varsity-volleyball-bfs-2/
CATEGORIES:BFS Athletics
END:VEVENT
BEGIN:VEVENT
DTSTART;TZID=Asia/Seoul:20240928T090000
DTEND;TZID=Asia/Seoul:20240928T170000
DTSTAMP:20260425T123435
CREATED:20240812T192947Z
LAST-MODIFIED:20240812T192947Z
UID:6787-1727514000-1727542800@busanforeignschool.org
SUMMARY:HS Varsity Volleyball @ BFS
DESCRIPTION:
URL:https://busanforeignschool.org/event/hs-varsity-volleyball-bfs-3/
CATEGORIES:BFS Athletics
END:VEVENT
BEGIN:VEVENT
DTSTART;TZID=Asia/Seoul:20240928T090000
DTEND;TZID=Asia/Seoul:20240928T160000
DTSTAMP:20260425T123435
CREATED:20240514T055944Z
LAST-MODIFIED:20240928T060450Z
UID:6442-1727514000-1727539200@busanforeignschool.org
SUMMARY:SKAIS ES Football Divisional @ISB
DESCRIPTION:
URL:https://busanforeignschool.org/event/skais-es-football-divisional-isb/
CATEGORIES:BFS Athletics
END:VEVENT
BEGIN:VEVENT
DTSTART;TZID=Asia/Seoul:20240927T090000
DTEND;TZID=Asia/Seoul:20240927T180000
DTSTAMP:20260425T123435
CREATED:20240812T192947Z
LAST-MODIFIED:20240822T194450Z
UID:6783-1727427600-1727460000@busanforeignschool.org
SUMMARY:HS Varsity Volleyball @ BFS
DESCRIPTION:
URL:https://busanforeignschool.org/event/hs-varsity-volleyball-bfs/
CATEGORIES:BFS Athletics
END:VEVENT
BEGIN:VEVENT
DTSTART;VALUE=DATE:20240926
DTEND;VALUE=DATE:20240929
DTSTAMP:20260425T123435
CREATED:20240827T195943Z
LAST-MODIFIED:20240928T060449Z
UID:6947-1727308800-1727567999@busanforeignschool.org
SUMMARY:Jeju Invitational Tournament (HS Varsity G&B Volleyball)
DESCRIPTION:
URL:https://busanforeignschool.org/event/jeju-invitational-tournament-hs-varsity-gb-volleyball/
CATEGORIES:BFS Athletics
END:VEVENT
BEGIN:VEVENT
DTSTART;TZID=Asia/Seoul:20240924T161500
DTEND;TZID=Asia/Seoul:20240924T174500
DTSTAMP:20260425T123435
CREATED:20240812T192947Z
LAST-MODIFIED:20240924T054947Z
UID:6781-1727194500-1727199900@busanforeignschool.org
SUMMARY:MS Soccer @ ISB
DESCRIPTION:
URL:https://busanforeignschool.org/event/ms-soccer-isb/
CATEGORIES:BFS Athletics
END:VEVENT
BEGIN:VEVENT
DTSTART;TZID=Asia/Seoul:20240923T161500
DTEND;TZID=Asia/Seoul:20240923T174500
DTSTAMP:20260425T123435
CREATED:20240823T195946Z
LAST-MODIFIED:20240923T053448Z
UID:6923-1727108100-1727113500@busanforeignschool.org
SUMMARY:HS Volleyball @ BFS/ISB
DESCRIPTION:
URL:https://busanforeignschool.org/event/hs-volleyball-bfs-isb/
CATEGORIES:BFS Athletics
END:VEVENT
BEGIN:VEVENT
DTSTART;TZID=Asia/Seoul:20240912T140000
DTEND;TZID=Asia/Seoul:20240912T170000
DTSTAMP:20260425T123435
CREATED:20240812T192947Z
LAST-MODIFIED:20240905T201446Z
UID:6780-1726149600-1726160400@busanforeignschool.org
SUMMARY:HS Varsity Volleyball
DESCRIPTION:
URL:https://busanforeignschool.org/event/hs-varsity-volleyball/
CATEGORIES:BFS Athletics
END:VEVENT
BEGIN:VEVENT
DTSTART;TZID=Asia/Seoul:20240910T161500
DTEND;TZID=Asia/Seoul:20240910T174500
DTSTAMP:20260425T123435
CREATED:20240812T192947Z
LAST-MODIFIED:20240812T192947Z
UID:6779-1725984900-1725990300@busanforeignschool.org
SUMMARY:HS V & JV Volleyball
DESCRIPTION:
URL:https://busanforeignschool.org/event/hs-v-jv-volleyball-2/
CATEGORIES:BFS Athletics
END:VEVENT
BEGIN:VEVENT
DTSTART;TZID=Asia/Seoul:20240910T161500
DTEND;TZID=Asia/Seoul:20240910T174500
DTSTAMP:20260425T123435
CREATED:20240812T192947Z
LAST-MODIFIED:20240822T194450Z
UID:6778-1725984900-1725990300@busanforeignschool.org
SUMMARY:HS V & JV Volleyball
DESCRIPTION:
URL:https://busanforeignschool.org/event/hs-v-jv-volleyball/
CATEGORIES:BFS Athletics
END:VEVENT
BEGIN:VEVENT
DTSTART;TZID=Asia/Seoul:20240601T090000
DTEND;TZID=Asia/Seoul:20240601T100000
DTSTAMP:20260425T123435
CREATED:20240228T174048Z
LAST-MODIFIED:20240531T062946Z
UID:5504-1717232400-1717236000@busanforeignschool.org
SUMMARY:SKAC ES Basketball Finals @ HIS
DESCRIPTION:(Girls @ BFS\, Boys @ ISB)
URL:https://busanforeignschool.org/event/skac-es-basketball-final/
CATEGORIES:BFS Athletics
ATTACH;FMTTYPE=image/jpeg:https://busanforeignschool.org/wp-content/uploads/2024/02/BFS-Athletics.jpg
END:VEVENT
BEGIN:VEVENT
DTSTART;VALUE=DATE:20240527
DTEND;VALUE=DATE:20240528
DTSTAMP:20260425T123435
CREATED:20240509T055943Z
LAST-MODIFIED:20240527T055944Z
UID:6400-1716768000-1716854399@busanforeignschool.org
SUMMARY:ES Badminton Invitational @ GIFS
DESCRIPTION:
URL:https://busanforeignschool.org/event/es-badminton-invitational-gifs/
CATEGORIES:BFS Athletics
END:VEVENT
END:VCALENDAR