BEGIN:VCALENDAR
VERSION:2.0
PRODID:-//Busan Foreign School - ECPv6.15.20//NONSGML v1.0//EN
CALSCALE:GREGORIAN
METHOD:PUBLISH
X-ORIGINAL-URL:https://busanforeignschool.org
X-WR-CALDESC:Events for Busan Foreign School
REFRESH-INTERVAL;VALUE=DURATION:PT1H
X-Robots-Tag:noindex
X-PUBLISHED-TTL:PT1H
BEGIN:VTIMEZONE
TZID:Asia/Seoul
BEGIN:STANDARD
TZOFFSETFROM:+0900
TZOFFSETTO:+0900
TZNAME:KST
DTSTART:20230101T000000
END:STANDARD
END:VTIMEZONE
BEGIN:VEVENT
DTSTART;TZID=Asia/Seoul:20250506T161500
DTEND;TZID=Asia/Seoul:20250506T174500
DTSTAMP:20260425T092108
CREATED:20240812T192949Z
LAST-MODIFIED:20250301T102350Z
UID:6816-1746548100-1746553500@busanforeignschool.org
SUMMARY:MS Basketball @ BFS/ISB
DESCRIPTION:
URL:https://busanforeignschool.org/event/ms-basketball-bfs-isb-2/
CATEGORIES:BFS Athletics
END:VEVENT
BEGIN:VEVENT
DTSTART;TZID=Asia/Seoul:20250426T090000
DTEND;TZID=Asia/Seoul:20250426T170000
DTSTAMP:20260425T092108
CREATED:20240812T192949Z
LAST-MODIFIED:20250301T102350Z
UID:6815-1745658000-1745686800@busanforeignschool.org
SUMMARY:SKAIS ES Basketball @ DIS
DESCRIPTION:
URL:https://busanforeignschool.org/event/skais-es-basketball-dis/
CATEGORIES:BFS Athletics
END:VEVENT
BEGIN:VEVENT
DTSTART;VALUE=DATE:20250417
DTEND;VALUE=DATE:20250420
DTSTAMP:20260425T092108
CREATED:20240812T192949Z
LAST-MODIFIED:20250301T102350Z
UID:6814-1744848000-1745107199@busanforeignschool.org
SUMMARY:KISAC HS Soccer @ Jeju
DESCRIPTION:
URL:https://busanforeignschool.org/event/kisac-hs-soccer-jeju/
CATEGORIES:BFS Athletics
END:VEVENT
BEGIN:VEVENT
DTSTART;TZID=Asia/Seoul:20250410T161500
DTEND;TZID=Asia/Seoul:20250410T174500
DTSTAMP:20260425T092108
CREATED:20240812T192949Z
LAST-MODIFIED:20250301T102350Z
UID:6813-1744301700-1744307100@busanforeignschool.org
SUMMARY:MS Basketball @ BFS/ISB
DESCRIPTION:
URL:https://busanforeignschool.org/event/ms-basketball-bfs-isb/
CATEGORIES:BFS Athletics
END:VEVENT
BEGIN:VEVENT
DTSTART;TZID=Asia/Seoul:20250408T161500
DTEND;TZID=Asia/Seoul:20250408T174500
DTSTAMP:20260425T092108
CREATED:20240812T192949Z
LAST-MODIFIED:20250301T102350Z
UID:6812-1744128900-1744134300@busanforeignschool.org
SUMMARY:HS Soccer @ ISB
DESCRIPTION:
URL:https://busanforeignschool.org/event/hs-soccer-isb/
CATEGORIES:BFS Athletics
END:VEVENT
BEGIN:VEVENT
DTSTART;VALUE=DATE:20250401
DTEND;VALUE=DATE:20250402
DTSTAMP:20260425T092108
CREATED:20241113T073450Z
LAST-MODIFIED:20250301T102350Z
UID:7537-1743465600-1743551999@busanforeignschool.org
SUMMARY:ES Basketball begins (M/F)
DESCRIPTION:
URL:https://busanforeignschool.org/event/es-basketball-begins-m-f/
CATEGORIES:BFS Athletics
END:VEVENT
BEGIN:VEVENT
DTSTART;TZID=Asia/Seoul:20250301T090000
DTEND;TZID=Asia/Seoul:20250301T180000
DTSTAMP:20260425T092108
CREATED:20240812T192949Z
LAST-MODIFIED:20250228T102347Z
UID:6811-1740819600-1740852000@busanforeignschool.org
SUMMARY:SKAIS HS Basketball @ BFS/ISB
DESCRIPTION:
URL:https://busanforeignschool.org/event/skais-hs-basketball-bfs-isb/
CATEGORIES:BFS Athletics
END:VEVENT
BEGIN:VEVENT
DTSTART;TZID=Asia/Seoul:20250227T090000
DTEND;TZID=Asia/Seoul:20250227T193000
DTSTAMP:20260425T092108
CREATED:20240812T192949Z
LAST-MODIFIED:20250227T102347Z
UID:6810-1740646800-1740684600@busanforeignschool.org
SUMMARY:SKAIS ES Volleyball @ AIS
DESCRIPTION:
URL:https://busanforeignschool.org/event/skais-es-volleyball-ais-2/
CATEGORIES:BFS Athletics
END:VEVENT
BEGIN:VEVENT
DTSTART;TZID=Asia/Seoul:20250225T090000
DTEND;TZID=Asia/Seoul:20250225T190000
DTSTAMP:20260425T092108
CREATED:20240812T192949Z
LAST-MODIFIED:20250223T100846Z
UID:6809-1740474000-1740510000@busanforeignschool.org
SUMMARY:SKAIS HS JV Basketball @ GIFS
DESCRIPTION:
URL:https://busanforeignschool.org/event/skais-hs-jv-basketball-gifs/
CATEGORIES:BFS Athletics
END:VEVENT
BEGIN:VEVENT
DTSTART;TZID=Asia/Seoul:20250220T090000
DTEND;TZID=Asia/Seoul:20250220T170000
DTSTAMP:20260425T092108
CREATED:20240812T192949Z
LAST-MODIFIED:20250219T100848Z
UID:6808-1740042000-1740070800@busanforeignschool.org
SUMMARY:SKAIS MS Volleyball (Boys @ BFS\, Girls @ DIS)
DESCRIPTION:
URL:https://busanforeignschool.org/event/skais-ms-volleyball-boys-bfs-girls-dis/
CATEGORIES:BFS Athletics
END:VEVENT
BEGIN:VEVENT
DTSTART;VALUE=DATE:20250217
DTEND;VALUE=DATE:20250218
DTSTAMP:20260425T092108
CREATED:20240812T192949Z
LAST-MODIFIED:20250217T100851Z
UID:6807-1739750400-1739836799@busanforeignschool.org
SUMMARY:SKAIS AD Meeting
DESCRIPTION:
URL:https://busanforeignschool.org/event/skais-ad-meeting-2/
CATEGORIES:BFS Athletics
END:VEVENT
BEGIN:VEVENT
DTSTART;TZID=Asia/Seoul:20250215T090000
DTEND;TZID=Asia/Seoul:20250215T190000
DTSTAMP:20260425T092108
CREATED:20240812T192949Z
LAST-MODIFIED:20250215T095351Z
UID:6805-1739610000-1739646000@busanforeignschool.org
SUMMARY:SKAIS ES Volleyball @ AIS
DESCRIPTION:
URL:https://busanforeignschool.org/event/skais-es-volleyball-ais/
CATEGORIES:BFS Athletics
END:VEVENT
BEGIN:VEVENT
DTSTART;VALUE=DATE:20250213
DTEND;VALUE=DATE:20250216
DTSTAMP:20260425T092108
CREATED:20240812T192949Z
LAST-MODIFIED:20250215T095350Z
UID:6806-1739404800-1739663999@busanforeignschool.org
SUMMARY:KISAC HS Basketball @ KISJ\, SJA\, NLCS\, FPS
DESCRIPTION:
URL:https://busanforeignschool.org/event/kisac-hs-basketball-kisj-sja-nlcs-fps/
CATEGORIES:BFS Athletics
END:VEVENT
BEGIN:VEVENT
DTSTART;VALUE=DATE:20250207
DTEND;VALUE=DATE:20250209
DTSTAMP:20260425T092108
CREATED:20240812T192949Z
LAST-MODIFIED:20250208T095350Z
UID:6803-1738886400-1739059199@busanforeignschool.org
SUMMARY:KISAC MS Volleyball @ BHA\, BFS\, DIS
DESCRIPTION:
URL:https://busanforeignschool.org/event/kisac-ms-volleyball-bha-bfs-dis/
CATEGORIES:BFS Athletics
END:VEVENT
BEGIN:VEVENT
DTSTART;TZID=Asia/Seoul:20250206T161500
DTEND;TZID=Asia/Seoul:20250206T174500
DTSTAMP:20260425T092108
CREATED:20240812T192949Z
LAST-MODIFIED:20250205T095347Z
UID:6804-1738858500-1738863900@busanforeignschool.org
SUMMARY:MS Volleyball @ BFS/ISB
DESCRIPTION:
URL:https://busanforeignschool.org/event/ms-volleyball-bfs-isb-2/
CATEGORIES:BFS Athletics
END:VEVENT
BEGIN:VEVENT
DTSTART;TZID=Asia/Seoul:20250204T161500
DTEND;TZID=Asia/Seoul:20250204T174500
DTSTAMP:20260425T092108
CREATED:20240812T192949Z
LAST-MODIFIED:20241118T074947Z
UID:6802-1738685700-1738691100@busanforeignschool.org
SUMMARY:HS Varsity Basketball @ BFS/ISB
DESCRIPTION:
URL:https://busanforeignschool.org/event/hs-varsity-basketball-bfs-isb/
CATEGORIES:BFS Athletics
END:VEVENT
BEGIN:VEVENT
DTSTART;TZID=Asia/Seoul:20250203T161500
DTEND;TZID=Asia/Seoul:20250203T174500
DTSTAMP:20260425T092108
CREATED:20241119T074947Z
LAST-MODIFIED:20250202T095348Z
UID:7622-1738599300-1738604700@busanforeignschool.org
SUMMARY:Varsity Basketball - Boys @ ISB\, Girls @ BFS
DESCRIPTION:
URL:https://busanforeignschool.org/event/varsity-basketball-boys-isb-girls-bfs/
CATEGORIES:BFS Athletics
END:VEVENT
BEGIN:VEVENT
DTSTART;VALUE=DATE:20250125
DTEND;VALUE=DATE:20250126
DTSTAMP:20260425T092108
CREATED:20241024T063446Z
LAST-MODIFIED:20250125T095350Z
UID:7442-1737763200-1737849599@busanforeignschool.org
SUMMARY:Varsity Basketball @ DMHS
DESCRIPTION:
URL:https://busanforeignschool.org/event/varsity-basketball-dmhs/
CATEGORIES:BFS Athletics
END:VEVENT
BEGIN:VEVENT
DTSTART;TZID=Asia/Seoul:20250121T161500
DTEND;TZID=Asia/Seoul:20250121T174500
DTSTAMP:20260425T092108
CREATED:20240812T192949Z
LAST-MODIFIED:20250120T095347Z
UID:6801-1737476100-1737481500@busanforeignschool.org
SUMMARY:MS Volleyball @ BFS/ISB
DESCRIPTION:
URL:https://busanforeignschool.org/event/ms-volleyball-bfs-isb/
CATEGORIES:BFS Athletics
END:VEVENT
BEGIN:VEVENT
DTSTART;TZID=Asia/Seoul:20250117T161500
DTEND;TZID=Asia/Seoul:20250117T174500
DTSTAMP:20260425T092108
CREATED:20241119T074947Z
LAST-MODIFIED:20250116T093849Z
UID:7621-1737130500-1737135900@busanforeignschool.org
SUMMARY:Varsity Basketball - Boys @ BFS\, Girls @ ISB
DESCRIPTION:
URL:https://busanforeignschool.org/event/varsity-basketball-boys-bfs-girls-isb/
CATEGORIES:BFS Athletics
END:VEVENT
BEGIN:VEVENT
DTSTART;TZID=Asia/Seoul:20241214T090000
DTEND;TZID=Asia/Seoul:20241214T123000
DTSTAMP:20260425T092108
CREATED:20241024T063446Z
LAST-MODIFIED:20241213T083846Z
UID:7441-1734166800-1734179400@busanforeignschool.org
SUMMARY:Varsity Basketball vs DMHS @ BFS
DESCRIPTION:
URL:https://busanforeignschool.org/event/varsity-basketball-vs-dmhs-bfs/
CATEGORIES:BFS Athletics
END:VEVENT
BEGIN:VEVENT
DTSTART;TZID=Asia/Seoul:20241212T161500
DTEND;TZID=Asia/Seoul:20241212T174500
DTSTAMP:20260425T092108
CREATED:20240812T192948Z
LAST-MODIFIED:20241118T074946Z
UID:6800-1734020100-1734025500@busanforeignschool.org
SUMMARY:HS Basketball @ BFS/ISB
DESCRIPTION:
URL:https://busanforeignschool.org/event/hs-basketball-bfs-isb/
CATEGORIES:BFS Athletics
END:VEVENT
BEGIN:VEVENT
DTSTART;TZID=Asia/Seoul:20241209T090000
DTEND;TZID=Asia/Seoul:20241209T150000
DTSTAMP:20260425T092108
CREATED:20240812T192948Z
LAST-MODIFIED:20241208T083846Z
UID:6799-1733734800-1733756400@busanforeignschool.org
SUMMARY:SKAIS AD Meeting
DESCRIPTION:
URL:https://busanforeignschool.org/event/skais-ad-meeting/
CATEGORIES:BFS Athletics
END:VEVENT
BEGIN:VEVENT
DTSTART;TZID=Asia/Seoul:20241207T090000
DTEND;TZID=Asia/Seoul:20241207T170000
DTSTAMP:20260425T092108
CREATED:20240812T192948Z
LAST-MODIFIED:20241206T083846Z
UID:6798-1733562000-1733590800@busanforeignschool.org
SUMMARY:SKAIS MUN @ ISB
DESCRIPTION:
URL:https://busanforeignschool.org/event/skais-mun-isb/
CATEGORIES:BFS Athletics
END:VEVENT
BEGIN:VEVENT
DTSTART;VALUE=DATE:20241128
DTEND;VALUE=DATE:20241201
DTSTAMP:20260425T092108
CREATED:20241028T064947Z
LAST-MODIFIED:20241130T083446Z
UID:7474-1732752000-1733011199@busanforeignschool.org
SUMMARY:Jeju Invitational Varsity Basketball Tournament
DESCRIPTION:
URL:https://busanforeignschool.org/event/jeju-invitational-varsity-basketball-tournament/
CATEGORIES:BFS Athletics
END:VEVENT
BEGIN:VEVENT
DTSTART;TZID=Asia/Seoul:20241123T090000
DTEND;TZID=Asia/Seoul:20241123T170000
DTSTAMP:20260425T092108
CREATED:20240812T192948Z
LAST-MODIFIED:20240909T011759Z
UID:6797-1732352400-1732381200@busanforeignschool.org
SUMMARY:SKAIS ES STEM Fair @ GIFS
DESCRIPTION:
URL:https://busanforeignschool.org/event/skais-es-stem-fair-gifs/
CATEGORIES:BFS Athletics
END:VEVENT
BEGIN:VEVENT
DTSTART;VALUE=DATE:20241123
DTEND;VALUE=DATE:20241124
DTSTAMP:20260425T092108
CREATED:20240910T051453Z
LAST-MODIFIED:20241123T080445Z
UID:7165-1732320000-1732406399@busanforeignschool.org
SUMMARY:SKAIS ES STEM Fair @ DIS
DESCRIPTION:
URL:https://busanforeignschool.org/event/skais-es-stem-fair-dis/
CATEGORIES:BFS Athletics
END:VEVENT
BEGIN:VEVENT
DTSTART;VALUE=DATE:20241123
DTEND;VALUE=DATE:20241124
DTSTAMP:20260425T092108
CREATED:20240910T051453Z
LAST-MODIFIED:20241123T080445Z
UID:7166-1732320000-1732406399@busanforeignschool.org
SUMMARY:SKAIS MS/HS STEM Fair @ DIS
DESCRIPTION:
URL:https://busanforeignschool.org/event/skais-ms-hs-stem-fair-dis/
CATEGORIES:BFS Athletics
END:VEVENT
BEGIN:VEVENT
DTSTART;TZID=Asia/Seoul:20241113T090000
DTEND;TZID=Asia/Seoul:20241113T170000
DTSTAMP:20260425T092108
CREATED:20240812T192948Z
LAST-MODIFIED:20241113T073448Z
UID:6796-1731488400-1731517200@busanforeignschool.org
SUMMARY:SKAIS ES Soccer @ ISB
DESCRIPTION:
URL:https://busanforeignschool.org/event/skais-es-soccer-gifs/
CATEGORIES:BFS Athletics
END:VEVENT
BEGIN:VEVENT
DTSTART;TZID=Asia/Seoul:20241112T090000
DTEND;TZID=Asia/Seoul:20241112T170000
DTSTAMP:20260425T092108
CREATED:20240812T192948Z
LAST-MODIFIED:20241112T073446Z
UID:6795-1731402000-1731430800@busanforeignschool.org
SUMMARY:SKAIS MS Soccer @ ISB
DESCRIPTION:
URL:https://busanforeignschool.org/event/skais-ms-soccer-isb/
CATEGORIES:BFS Athletics
END:VEVENT
END:VCALENDAR