BEGIN:VCALENDAR
VERSION:2.0
PRODID:-//Busan Foreign School - ECPv6.15.20//NONSGML v1.0//EN
CALSCALE:GREGORIAN
METHOD:PUBLISH
X-ORIGINAL-URL:https://busanforeignschool.org
X-WR-CALDESC:Events for Busan Foreign School
REFRESH-INTERVAL;VALUE=DURATION:PT1H
X-Robots-Tag:noindex
X-PUBLISHED-TTL:PT1H
BEGIN:VTIMEZONE
TZID:Asia/Seoul
BEGIN:STANDARD
TZOFFSETFROM:+0900
TZOFFSETTO:+0900
TZNAME:KST
DTSTART:20250101T000000
END:STANDARD
END:VTIMEZONE
BEGIN:VEVENT
DTSTART;VALUE=DATE:20260205
DTEND;VALUE=DATE:20260208
DTSTAMP:20260425T023359
CREATED:20251212T124512Z
LAST-MODIFIED:20260207T213003Z
UID:9422-1770249600-1770508799@busanforeignschool.org
SUMMARY:KISAC HS BBall Boys @SJA Girls @BFS
DESCRIPTION:
URL:https://busanforeignschool.org/event/kisac-hs-bball-boys-sja-girls-bfs/
CATEGORIES:BFS Academic
END:VEVENT
BEGIN:VEVENT
DTSTART;VALUE=DATE:20260206
DTEND;VALUE=DATE:20260208
DTSTAMP:20260425T023359
CREATED:20251211T123006Z
LAST-MODIFIED:20260207T213003Z
UID:9405-1770336000-1770508799@busanforeignschool.org
SUMMARY:KIMEA/KAIAC National Honor Festival @ SFS
DESCRIPTION:
URL:https://busanforeignschool.org/event/kimea-kaiac-national-honor-festival-sfs/
CATEGORIES:BFS Academic
END:VEVENT
BEGIN:VEVENT
DTSTART;TZID=Asia/Seoul:20260206T082000
DTEND;TZID=Asia/Seoul:20260206T083500
DTSTAMP:20260425T023359
CREATED:20241004T070449Z
LAST-MODIFIED:20241112T093448Z
UID:7317-1770366000-1770366900@busanforeignschool.org
SUMMARY:Friday Foyer!
DESCRIPTION:
URL:https://busanforeignschool.org/event/friday-foyer-16/
CATEGORIES:BFS Academic
END:VEVENT
BEGIN:VEVENT
DTSTART;TZID=Asia/Seoul:20260206T100000
DTEND;TZID=Asia/Seoul:20260206T110000
DTSTAMP:20260425T023359
CREATED:20260126T210012Z
LAST-MODIFIED:20260205T213005Z
UID:9722-1770372000-1770375600@busanforeignschool.org
SUMMARY:BFS Open House (Auditorium)
DESCRIPTION:
URL:https://busanforeignschool.org/event/bfs-open-house-auditorium-3/
CATEGORIES:BFS Academic
END:VEVENT
BEGIN:VEVENT
DTSTART;TZID=Asia/Seoul:20260206T130000
DTEND;TZID=Asia/Seoul:20260206T140000
DTSTAMP:20260425T023359
CREATED:20260126T210012Z
LAST-MODIFIED:20260205T213005Z
UID:9720-1770382800-1770386400@busanforeignschool.org
SUMMARY:BFS Open House (Auditorium)
DESCRIPTION:
URL:https://busanforeignschool.org/event/bfs-open-house-auditorium/
CATEGORIES:BFS Academic
END:VEVENT
END:VCALENDAR