BEGIN:VCALENDAR
VERSION:2.0
PRODID:-//Busan Foreign School - ECPv6.15.20//NONSGML v1.0//EN
CALSCALE:GREGORIAN
METHOD:PUBLISH
X-WR-CALNAME:Busan Foreign School
X-ORIGINAL-URL:https://busanforeignschool.org
X-WR-CALDESC:Events for Busan Foreign School
REFRESH-INTERVAL;VALUE=DURATION:PT1H
X-Robots-Tag:noindex
X-PUBLISHED-TTL:PT1H
BEGIN:VTIMEZONE
TZID:Asia/Seoul
BEGIN:STANDARD
TZOFFSETFROM:+0900
TZOFFSETTO:+0900
TZNAME:KST
DTSTART:20240101T000000
END:STANDARD
END:VTIMEZONE
BEGIN:VEVENT
DTSTART;VALUE=DATE:20251120
DTEND;VALUE=DATE:20251121
DTSTAMP:20260425T073333
CREATED:20250620T202759Z
LAST-MODIFIED:20251120T111046Z
UID:8450-1763596800-1763683199@busanforeignschool.org
SUMMARY:SKAIS Cross Country Meet 2 @ DIS
DESCRIPTION:
URL:https://busanforeignschool.org/event/skais-cross-country-meet-2-dis/
CATEGORIES:BFS Academic
END:VEVENT
BEGIN:VEVENT
DTSTART;VALUE=DATE:20251120
DTEND;VALUE=DATE:20251121
DTSTAMP:20260425T073333
CREATED:20250822T071255Z
LAST-MODIFIED:20251120T124016Z
UID:8773-1763596800-1763683199@busanforeignschool.org
SUMMARY:SKAIS Cross Country Meet 2 @ DIS
DESCRIPTION:
URL:https://busanforeignschool.org/event/skais-cross-country-meet-2-dis-2/
CATEGORIES:BFS Athletics
END:VEVENT
END:VCALENDAR