BEGIN:VCALENDAR
VERSION:2.0
PRODID:-//Busan Foreign School - ECPv6.15.20//NONSGML v1.0//EN
CALSCALE:GREGORIAN
METHOD:PUBLISH
X-WR-CALNAME:Busan Foreign School
X-ORIGINAL-URL:https://busanforeignschool.org
X-WR-CALDESC:Events for Busan Foreign School
REFRESH-INTERVAL;VALUE=DURATION:PT1H
X-Robots-Tag:noindex
X-PUBLISHED-TTL:PT1H
BEGIN:VTIMEZONE
TZID:Asia/Seoul
BEGIN:STANDARD
TZOFFSETFROM:+0900
TZOFFSETTO:+0900
TZNAME:KST
DTSTART:20240101T000000
END:STANDARD
END:VTIMEZONE
BEGIN:VEVENT
DTSTART;VALUE=DATE:20251106
DTEND;VALUE=DATE:20251107
DTSTAMP:20260425T073335
CREATED:20250214T132353Z
LAST-MODIFIED:20251106T103956Z
UID:8025-1762387200-1762473599@busanforeignschool.org
SUMMARY:Parent Teacher Conferences (Evening)
DESCRIPTION:
URL:https://busanforeignschool.org/event/parent-teacher-conferences-evening/
CATEGORIES:BFS Academic
END:VEVENT
BEGIN:VEVENT
DTSTART;VALUE=DATE:20251106
DTEND;VALUE=DATE:20251107
DTSTAMP:20260425T073335
CREATED:20251020T093458Z
LAST-MODIFIED:20251106T103956Z
UID:9071-1762387200-1762473599@busanforeignschool.org
SUMMARY:CNN Call to Earth Day
DESCRIPTION:
URL:https://busanforeignschool.org/event/cnn-call-to-earth-day-2/
CATEGORIES:BFS Academic
END:VEVENT
BEGIN:VEVENT
DTSTART;TZID=Asia/Seoul:20251106T153000
DTEND;TZID=Asia/Seoul:20251106T183000
DTSTAMP:20260425T073335
CREATED:20251029T095459Z
LAST-MODIFIED:20251029T095459Z
UID:9145-1762443000-1762453800@busanforeignschool.org
SUMMARY:PTSO Used Uniform Sale
DESCRIPTION:Nov 6: 3:30–6:30 p.m.
URL:https://busanforeignschool.org/event/ptso-used-uniform-sale-3/
CATEGORIES:BFS Academic
END:VEVENT
BEGIN:VEVENT
DTSTART;TZID=Asia/Seoul:20251106T153000
DTEND;TZID=Asia/Seoul:20251106T183000
DTSTAMP:20260425T073335
CREATED:20251029T095459Z
LAST-MODIFIED:20251105T103956Z
UID:9143-1762443000-1762453800@busanforeignschool.org
SUMMARY:PTSO Used Uniform Sale
DESCRIPTION:Nov 6: 3:30–6:30 p.m.
URL:https://busanforeignschool.org/event/ptso-used-uniform-sale/
CATEGORIES:BFS Academic
END:VEVENT
END:VCALENDAR