BEGIN:VCALENDAR
VERSION:2.0
PRODID:-//Busan Foreign School - ECPv6.15.20//NONSGML v1.0//EN
CALSCALE:GREGORIAN
METHOD:PUBLISH
X-ORIGINAL-URL:https://busanforeignschool.org
X-WR-CALDESC:Events for Busan Foreign School
REFRESH-INTERVAL;VALUE=DURATION:PT1H
X-Robots-Tag:noindex
X-PUBLISHED-TTL:PT1H
BEGIN:VTIMEZONE
TZID:Asia/Seoul
BEGIN:STANDARD
TZOFFSETFROM:+0900
TZOFFSETTO:+0900
TZNAME:KST
DTSTART:20240101T000000
END:STANDARD
END:VTIMEZONE
BEGIN:VEVENT
DTSTART;VALUE=DATE:20251030
DTEND;VALUE=DATE:20251101
DTSTAMP:20260425T073414
CREATED:20250924T074456Z
LAST-MODIFIED:20251031T100957Z
UID:8909-1761782400-1761955199@busanforeignschool.org
SUMMARY:Unity Club Bake Sale - MS/HS Lunchtime
DESCRIPTION:
URL:https://busanforeignschool.org/event/unity-club-bake-sale-ms-hs-lunchtime/
CATEGORIES:BFS Academic
END:VEVENT
BEGIN:VEVENT
DTSTART;TZID=Asia/Seoul:20251030T120000
DTEND;TZID=Asia/Seoul:20251030T130000
DTSTAMP:20260425T073414
CREATED:20250911T062956Z
LAST-MODIFIED:20251029T095459Z
UID:8860-1761825600-1761829200@busanforeignschool.org
SUMMARY:Unity Club Bake Sale
DESCRIPTION:
URL:https://busanforeignschool.org/event/unity-club-bake-sale/
CATEGORIES:BFS Academic
END:VEVENT
END:VCALENDAR