BEGIN:VCALENDAR
VERSION:2.0
PRODID:-//Busan Foreign School - ECPv6.15.20//NONSGML v1.0//EN
CALSCALE:GREGORIAN
METHOD:PUBLISH
X-ORIGINAL-URL:https://busanforeignschool.org
X-WR-CALDESC:Events for Busan Foreign School
REFRESH-INTERVAL;VALUE=DURATION:PT1H
X-Robots-Tag:noindex
X-PUBLISHED-TTL:PT1H
BEGIN:VTIMEZONE
TZID:Asia/Seoul
BEGIN:STANDARD
TZOFFSETFROM:+0900
TZOFFSETTO:+0900
TZNAME:KST
DTSTART:20240101T000000
END:STANDARD
END:VTIMEZONE
BEGIN:VEVENT
DTSTART;TZID=Asia/Seoul:20251022T083000
DTEND;TZID=Asia/Seoul:20251022T103000
DTSTAMP:20260425T105335
CREATED:20250822T055755Z
LAST-MODIFIED:20251021T093459Z
UID:8702-1761121800-1761129000@busanforeignschool.org
SUMMARY:PSAT Test G9-11
DESCRIPTION:
URL:https://busanforeignschool.org/event/psat-test-g9-11/
CATEGORIES:BFS Academic
END:VEVENT
BEGIN:VEVENT
DTSTART;TZID=Asia/Seoul:20251022T090000
DTEND;TZID=Asia/Seoul:20251022T153000
DTSTAMP:20260425T105335
CREATED:20250822T055754Z
LAST-MODIFIED:20251021T093459Z
UID:8691-1761123600-1761147000@busanforeignschool.org
SUMMARY:Senior Leadership Day - G12 Students off campus
DESCRIPTION:
URL:https://busanforeignschool.org/event/senior-leadership-day-g12-students-off-campus/
CATEGORIES:BFS Academic
END:VEVENT
END:VCALENDAR