BEGIN:VCALENDAR
VERSION:2.0
PRODID:-//Busan Foreign School - ECPv6.15.20//NONSGML v1.0//EN
CALSCALE:GREGORIAN
METHOD:PUBLISH
X-WR-CALNAME:Busan Foreign School
X-ORIGINAL-URL:https://busanforeignschool.org
X-WR-CALDESC:Events for Busan Foreign School
REFRESH-INTERVAL;VALUE=DURATION:PT1H
X-Robots-Tag:noindex
X-PUBLISHED-TTL:PT1H
BEGIN:VTIMEZONE
TZID:Asia/Seoul
BEGIN:STANDARD
TZOFFSETFROM:+0900
TZOFFSETTO:+0900
TZNAME:KST
DTSTART:20240101T000000
END:STANDARD
END:VTIMEZONE
BEGIN:VEVENT
DTSTART;TZID=Asia/Seoul:20251015T083000
DTEND;TZID=Asia/Seoul:20251015T090000
DTSTAMP:20260425T105249
CREATED:20250822T055755Z
LAST-MODIFIED:20251014T084958Z
UID:8700-1760517000-1760518800@busanforeignschool.org
SUMMARY:HS Student of the Quarter
DESCRIPTION:
URL:https://busanforeignschool.org/event/hs-student-of-the-quarter/
CATEGORIES:BFS Academic
END:VEVENT
END:VCALENDAR