BEGIN:VCALENDAR
VERSION:2.0
PRODID:-//Busan Foreign School - ECPv6.15.20//NONSGML v1.0//EN
CALSCALE:GREGORIAN
METHOD:PUBLISH
X-ORIGINAL-URL:https://busanforeignschool.org
X-WR-CALDESC:Events for Busan Foreign School
REFRESH-INTERVAL;VALUE=DURATION:PT1H
X-Robots-Tag:noindex
X-PUBLISHED-TTL:PT1H
BEGIN:VTIMEZONE
TZID:Asia/Seoul
BEGIN:STANDARD
TZOFFSETFROM:+0900
TZOFFSETTO:+0900
TZNAME:KST
DTSTART:20240101T000000
END:STANDARD
END:VTIMEZONE
BEGIN:VEVENT
DTSTART;TZID=Asia/Seoul:20250922T083000
DTEND;TZID=Asia/Seoul:20250922T100000
DTSTAMP:20260425T123240
CREATED:20250822T055754Z
LAST-MODIFIED:20250921T072957Z
UID:8690-1758529800-1758535200@busanforeignschool.org
SUMMARY:G6-9 MAP Test
DESCRIPTION:
URL:https://busanforeignschool.org/event/g6-9-map-test/
CATEGORIES:BFS Academic
END:VEVENT
END:VCALENDAR