BEGIN:VCALENDAR
VERSION:2.0
PRODID:-//Busan Foreign School - ECPv6.15.20//NONSGML v1.0//EN
CALSCALE:GREGORIAN
METHOD:PUBLISH
X-WR-CALNAME:Busan Foreign School
X-ORIGINAL-URL:https://busanforeignschool.org
X-WR-CALDESC:Events for Busan Foreign School
REFRESH-INTERVAL;VALUE=DURATION:PT1H
X-Robots-Tag:noindex
X-PUBLISHED-TTL:PT1H
BEGIN:VTIMEZONE
TZID:Asia/Seoul
BEGIN:STANDARD
TZOFFSETFROM:+0900
TZOFFSETTO:+0900
TZNAME:KST
DTSTART:20240101T000000
END:STANDARD
END:VTIMEZONE
BEGIN:VEVENT
DTSTART;VALUE=DATE:20250913
DTEND;VALUE=DATE:20250914
DTSTAMP:20260425T123129
CREATED:20250822T055754Z
LAST-MODIFIED:20250913T062956Z
UID:8685-1757721600-1757807999@busanforeignschool.org
SUMMARY:SAT
DESCRIPTION:
URL:https://busanforeignschool.org/event/sat-12/
CATEGORIES:BFS Academic
END:VEVENT
END:VCALENDAR