BEGIN:VCALENDAR
VERSION:2.0
PRODID:-//Busan Foreign School - ECPv6.15.20//NONSGML v1.0//EN
CALSCALE:GREGORIAN
METHOD:PUBLISH
X-WR-CALNAME:Busan Foreign School
X-ORIGINAL-URL:https://busanforeignschool.org
X-WR-CALDESC:Events for Busan Foreign School
REFRESH-INTERVAL;VALUE=DURATION:PT1H
X-Robots-Tag:noindex
X-PUBLISHED-TTL:PT1H
BEGIN:VTIMEZONE
TZID:Asia/Seoul
BEGIN:STANDARD
TZOFFSETFROM:+0900
TZOFFSETTO:+0900
TZNAME:KST
DTSTART:20240101T000000
END:STANDARD
END:VTIMEZONE
BEGIN:VEVENT
DTSTART;TZID=Asia/Seoul:20250910T100000
DTEND;TZID=Asia/Seoul:20250910T110000
DTSTAMP:20260425T123129
CREATED:20250822T055754Z
LAST-MODIFIED:20250909T062956Z
UID:8684-1757498400-1757502000@busanforeignschool.org
SUMMARY:Wren Asia College Fair
DESCRIPTION:COLLEGE FAIR WEDNESDAY SEPTEMBER 10TH 10AM — 11AM IN THE AUDITORIUM.  THE FOLLOWING SCHOOLS WILL BE ATTENDING:\nLoyola University Maryland\nAllegheny College\nPenn State\nMarshall University\nThe Ohio State University\nThe New School\nCentre College\nColumbia College Chicago\nColby College\nDrexel University\nUniversity of New Hampshire\nUniversity of Colorado Boulder
URL:https://busanforeignschool.org/event/wren-asia-college-fair/
CATEGORIES:BFS Academic
END:VEVENT
END:VCALENDAR