BEGIN:VCALENDAR
VERSION:2.0
PRODID:-//Busan Foreign School - ECPv6.15.20//NONSGML v1.0//EN
CALSCALE:GREGORIAN
METHOD:PUBLISH
X-WR-CALNAME:Busan Foreign School
X-ORIGINAL-URL:https://busanforeignschool.org
X-WR-CALDESC:Events for Busan Foreign School
REFRESH-INTERVAL;VALUE=DURATION:PT1H
X-Robots-Tag:noindex
X-PUBLISHED-TTL:PT1H
BEGIN:VTIMEZONE
TZID:Asia/Seoul
BEGIN:STANDARD
TZOFFSETFROM:+0900
TZOFFSETTO:+0900
TZNAME:KST
DTSTART:20240101T000000
END:STANDARD
END:VTIMEZONE
BEGIN:VEVENT
DTSTART;TZID=Asia/Seoul:20250905T082000
DTEND;TZID=Asia/Seoul:20250905T083500
DTSTAMP:20260425T123129
CREATED:20241004T070449Z
LAST-MODIFIED:20241112T093448Z
UID:7312-1757060400-1757061300@busanforeignschool.org
SUMMARY:Friday Foyer!
DESCRIPTION:
URL:https://busanforeignschool.org/event/friday-foyer-11/
CATEGORIES:BFS Academic
END:VEVENT
BEGIN:VEVENT
DTSTART;TZID=Asia/Seoul:20250905T110000
DTEND;TZID=Asia/Seoul:20250905T120000
DTSTAMP:20260425T123129
CREATED:20250819T055754Z
LAST-MODIFIED:20250904T061457Z
UID:8666-1757070000-1757073600@busanforeignschool.org
SUMMARY:PTSO Meeting (Auditorium)
DESCRIPTION:
URL:https://busanforeignschool.org/event/ptso-meeting-auditorium/
CATEGORIES:BFS Academic
END:VEVENT
END:VCALENDAR