BEGIN:VCALENDAR
VERSION:2.0
PRODID:-//Busan Foreign School - ECPv6.15.20//NONSGML v1.0//EN
CALSCALE:GREGORIAN
METHOD:PUBLISH
X-ORIGINAL-URL:https://busanforeignschool.org
X-WR-CALDESC:Events for Busan Foreign School
REFRESH-INTERVAL;VALUE=DURATION:PT1H
X-Robots-Tag:noindex
X-PUBLISHED-TTL:PT1H
BEGIN:VTIMEZONE
TZID:Asia/Seoul
BEGIN:STANDARD
TZOFFSETFROM:+0900
TZOFFSETTO:+0900
TZNAME:KST
DTSTART:20240101T000000
END:STANDARD
END:VTIMEZONE
BEGIN:VEVENT
DTSTART;VALUE=DATE:20250120
DTEND;VALUE=DATE:20250125
DTSTAMP:20260419T223835
CREATED:20241024T090446Z
LAST-MODIFIED:20250124T122348Z
UID:7448-1737331200-1737763199@busanforeignschool.org
SUMMARY:Spirit Week!
DESCRIPTION:HS STUCO \n\nMonday\, January 20 – “Morning Monday”: Wear pajamas to school (make sure they align with the school dress code).\nTuesday\, January 21 – “Tourist Tuesday”: Dress up as a tourist from a specific location (ex. Hawaiian tourist\, Parisian traveler).\nWednesday\, January 22 – “Wordy Wednesday”: Wear a single color of your choice and tape a letter to your shirt. Throughout the day\, team up with friends to form creative words!\nThursday\, January 23 – “Theme Character Thursday”: Dress up as your favorite animated or fictional character.\nFriday\, January 24 – “Spirit Friday”: Show school pride by wearing your BFS spirit shirt.
URL:https://busanforeignschool.org/event/spirit-week-tentative/
CATEGORIES:BFS Academic
END:VEVENT
BEGIN:VEVENT
DTSTART;VALUE=DATE:20250124
DTEND;VALUE=DATE:20250125
DTSTAMP:20260419T223835
CREATED:20241203T110449Z
LAST-MODIFIED:20250123T122345Z
UID:7712-1737676800-1737763199@busanforeignschool.org
SUMMARY:STUCO Pep Rally
DESCRIPTION:
URL:https://busanforeignschool.org/event/stuco-pep-rally/
CATEGORIES:BFS Academic
END:VEVENT
BEGIN:VEVENT
DTSTART;TZID=Asia/Seoul:20250124T084000
DTEND;TZID=Asia/Seoul:20250124T091000
DTSTAMP:20260419T223835
CREATED:20241111T093447Z
LAST-MODIFIED:20250123T122345Z
UID:7530-1737708000-1737709800@busanforeignschool.org
SUMMARY:ES SLO Assembly (Auditorium)
DESCRIPTION:
URL:https://busanforeignschool.org/event/es-slo-assembly-auditorium-2/
CATEGORIES:BFS Academic
END:VEVENT
END:VCALENDAR